Workbook

Sheet CARÁTULA
A7: GOBIERNO DEL ESTADO DE VERACRUZ DE IGNACIO DE LA LLAVE
A8: INSTITUTO TECNOLÓGICO SUPERIOR DE PEROTE
A9: CUARTO INFORME TRIMESTRAL DEL GASTO PÚBLICO 2021
A10: DEL 1 DE ENERO AL 31 DE DICIEMBRE DE 2021
A11: LEY GENERAL DE CONTABILIDAD GUBERNAMENTAL

Sheet APARTADO I INF. CONTABLE
A5: GOBIERNO DEL ESTADO DE VERACRUZ DE IGNACIO DE LA LLAVE
B6: =CARÁTULA!A8 -> INSTITUTO TECNOLÓGICO SUPERIOR DE PEROTE
A7: =CARÁTULA!A9 -> CUARTO INFORME TRIMESTRAL DEL GASTO PÚBLICO 2021
B8: =CARÁTULA!A10 -> DEL 1 DE ENERO AL 31 DE DICIEMBRE DE 2021
B9: APARTADO I
B10: ESTADOS E INFORMES FINANCIEROS CONTABLES

Sheet 1.EA
B1: CUARTO INFORME TRIMESTRAL DEL GASTO PÚBLICO 2021
B2: ='APARTADO I INF. CONTABLE'!B6:D6 -> INSTITUTO TECNOLÓGICO SUPERIOR DE PEROTE
B3: Estado de Actividades
B4: Del 1 de Enero al 31 de Diciembre de 2021
E6: 2021 | F6: =E6-1 -> 2020
C7: INGRESOS Y OTROS BENEFICIOS
C8: Ingresos de la Gestión | E8: =SUM(E9:E15) -> 4856859 | F8: =SUM(F9:F15) -> 5182088
C9: Impuestos | E9: 0 | F9: 0
C10: Cuotas y Aportaciones de Seguridad Social | E10: 0 | F10: 0
C11: Contribuciones de Mejoras | E11: 0 | F11: 0
C12: Derechos | E12: 0 | F12: 0
C13: Productos | E13: 0 | F13: 0
C14: Aprovechamientos | E14: 0 | F14: 0
C15: Ingresos por Venta de Bienes y Prestación de Servicios | E15: 4856859 | F15: 5182088
C17: Participaciones, Aportaciones, Convenios, Incentivos Derivados de la Colaboración Fiscal, Fondos Distintos de Aportaciones, Transferencias, Asignaciones, Subsidios y Subvenciones, Pensiones y Jubilaciones | E17: =SUM(E18:E19) -> 49413290 | F17: =SUM(F18:F19) -> 48084270
C18: Participaciones, Aportaciones, Convenios, Incentivos Derivados de la Colaboración Fiscal, Fondos Distintos de Aportaciones | E18: 0 | F18: 0
C19: Transferencias, Asignaciones, Subsidios y Subvenciones, y Pensiones y Jubilaciones | E19: 49413290 | F19: 48084270
C21: Otros Ingresos y Beneficios | E21: =SUM(E22:E26) -> 4157859 | F21: =SUM(F22:F26) -> 10229927
C22: Ingresos Financieros | E22: 25 | F22: 202
C23: Incremento por Variación de Inventarios | E23: 0 | F23: 0
C24: Disminución del Exceso de Estimaciones por Pérdida o Deterioro u Obsolescencia | E24: 0 | F24: 0
C25: Disminución del Exceso de Provisiones | E25: 0 | F25: 0
C26: Otros Ingresos y Beneficios Varios | E26: =4157859-25 -> 4157834 | F26: =10229927-202 -> 10229725
C28: Total de Ingresos y Otros Beneficios | E28: =E8+E17+E21 -> 58428008 | F28: =F8+F17+F21 -> 63496285
C30: GASTOS Y OTRAS PÉRDIDAS
C31: Gastos de Funcionamiento | E31: =SUM(E32:E34) -> 57818286 | F31: =SUM(F32:F34) -> 62866418
C32: Servicios Personales | E32: 45461811 | F32: 44059354
C33: Materiales y Suministros | E33: 4587169 | F33: 4764257
C34: Servicios Generales | E34: 7769306 | F34: 14042807
C36: Transferencia, Asignaciones, Subsidios y Otras Ayudas | E36: =SUM(E37:E45) -> 443567 | F36: =SUM(F37:F45) -> 431717
C37: Transferencias Internas y Asignaciones al Sector Público | E37: 0 | F37: 0
C38: Transferencias al Resto del Sector Público | E38: 0 | F38: 0
C39: Subsidios y Subvenciones | E39: 0 | F39: 0
C40: Ayudas Sociales | E40: 443567 | F40: 431717
C41: Pensiones y Jubilaciones | E41: 0 | F41: 0
C42: Transferencias a Fideicomisos, Mandatos y Contratos Análogos | E42: 0 | F42: 0
C43: Transferencias a la Seguridad Social | E43: 0 | F43: 0
C44: Donativos | E44: 0 | F44: 0
C45: Transferencias al Exterior | E45: 0 | F45: 0
C47: Participaciones y Aportaciones | E47: =SUM(E48:E50) -> 0 | F47: =SUM(F48:F50) -> 0
...

Sheet 2.ESF
B1: ='1.EA'!B1:G1 -> CUARTO INFORME TRIMESTRAL DEL GASTO PÚBLICO 2021
B2: ='1.EA'!B2:G2 -> INSTITUTO TECNOLÓGICO SUPERIOR DE PEROTE
B3: Estado de Situación Financiera
B4: Al 31 de Diciembre de 2021
C6: ACTIVO | E6: 2021 | F6: =E6-1 -> 2020 | H6: PASIVO | J6: =E6 -> 2021 | K6: =F6 -> 2020
C8: Activo Circulante | H8: Pasivo Circulante
C9: Efectivo y Equivalentes | E9: 1656005 | F9: 2601279 | H9: Cuentas por Pagar a Corto Plazo | J9: 18676618 | K9: 17356262
C10: Derechos a Recibir Efectivo o Equivalentes | E10: 29199146 | F10: 29986239 | H10: Documentos por Pagar a Corto Plazo | J10: 0 | K10: 0
C11: Derechos a Recibir Bienes o Servicios | E11: 0 | F11: 0 | H11: Porción a Corto Plazo de la Deuda Pública a Largo Plazo | J11: 0 | K11: 0
C12: Inventarios | E12: 0 | F12: 0 | H12: Títulos y Valores a Corto Plazo | J12: 0 | K12: 0
C13: Almacenes | E13: 0 | F13: 0 | H13: Pasivos Diferidos a Corto Plazo | J13: 0 | K13: 0
C14: Estimación por Pérdida o Deterioro de Activos Circulantes | E14: 0 | F14: 0 | H14: Fondos y Bienes de Terceros en Garantía y/o Administración a Corto Plazo | J14: 0 | K14: 0
C15: Otros Activos Circulantes | E15: 0 | F15: 0 | H15: Provisiones a Corto Plazo | J15: 0 | K15: 0
H16: Otros Pasivos a Corto Plazo | J16: 0 | K16: 0
C17: Total de Activos Circulantes | E17: =SUM(E9:E16) -> 30855151 | F17: =SUM(F9:F16) -> 32587518
H18: Total de Pasivos Circulantes | J18: =SUM(J9:J17) -> 18676618 | K18: =SUM(K9:K17) -> 17356262
C19: Activo No Circulante
C20: Inversiones Financieras a Largo Plazo | E20: 0 | F20: 0 | H20: Pasivo No Circulante
C21: Derechos a Recibir Efectivo o Equivalentes a Largo Plazo | E21: 0 | F21: 0 | H21: Cuentas por Pagar a Largo Plazo | J21: 0 | K21: 0
C22: Bienes Inmuebles, Infraestructura y Construcciones en Proceso | E22: 23329742 | F22: 15283110 | H22: Documentos por Pagar a Largo Plazo | J22: 0 | K22: 0
C23: Bienes Muebles | E23: 11456138 | F23: 11394830 | H23: Deuda Pública a Largo Plazo | J23: 0 | K23: 0
C24: Activos Intangibles | E24: 333662 | F24: 228816 | H24: Pasivos Diferidos a Largo Plazo | J24: 0 | K24: 0
C25: Depreciación, Deterioro y Amortización Acumulada de Bienes | E25: 0 | F25: 0 | H25: Fondos y Bienes de Terceros en Garantía y/o en Administración a Largo Plazo | J25: 0 | K25: 0
C26: Activos Diferidos | E26: 0 | F26: 0 | H26: Provisiones a Largo Plazo | J26: 0 | K26: 0
C27: Estimación por Pérdida o Deterioro de Activos no Circulantes | E27: 0 | F27: 0
C28: Otros Activos no Circulantes | E28: 0 | F28: 0 | H28: Total de Pasivos No Circulantes | J28: =SUM(J21:J27) -> 0 | K28: =SUM(K21:K27) -> 0
H30: Total del Pasivo | J30: =J18+J28 -> 18676618 | K30: =K18+K28 -> 17356262
C31: Total de Activos No Circulantes | E31: =SUM(E20:E30) -> 35119542 | F31: =SUM(F20:F30) -> 26906756
H32: HACIENDA PÚBLICA/ PATRIMONIO
C33: Total del Activo | E33: =E17+E31 -> 65974693 | F33: =F17+F31 -> 59494274
H34: Hacienda Pública/Patrimonio Contribuido | J34: =SUM(J35:J37) -> 4347 | K34: =SUM(K35:K37) -> 4347
H35: Aportaciones | J35: 0 | K35: 0
H36: Donaciones de Capital | J36: 4347 | K36: 4347
H37: Actualización de la Hacienda Pública / Patrimonio | J37: 0 | K37: 0
H39: Hacienda Pública/Patrimonio Generado | J39: =SUM(J40:J44) -> 47293728 | K39: =SUM(K40:K44) -> 42133665
H40: Resultados del Ejercicio (Ahorro / Desahorro) | J40: ='1.EA'!E72 -> 166155 | K40: ='1.EA'!F72 -> 198150
H41: Resultados de Ejercicios Anteriores | J41: 17044008 | K41: 19898582
H42: Revalúos | J42: 17139723 | K42: 9093091
H43: Reservas | J43: 0 | K43: 0
H44: Rectificaciones de Resultados de Ejercicios Anteriores | J44: 12943842 | K44: 12943842
...

Sheet 3.ECSF
B1: ='2.ESF'!B1:L1 -> CUARTO INFORME TRIMESTRAL DEL GASTO PÚBLICO 2021
B2: ='1.EA'!B2:G2 -> INSTITUTO TECNOLÓGICO SUPERIOR DE PEROTE
B3: Estado de Cambios en la Situación Financiera
B4: ='1.EA'!B4:G4 -> Del 1 de Enero al 31 de Diciembre de 2021
E6: Origen | F6: Aplicación
C8: ACTIVO | E8: =E9+E18 -> 1732367 | F8: =F9+F18 -> 8212786
C9: Activo Circulante | E9: =SUM(E10:E16) -> 1732367 | F9: =SUM(F10:F16) -> 0
C10: Efectivo y Equivalentes | E10: =IF('2.ESF'!E9<'2.ESF'!D91,'2.ESF'!D91-'2.ESF'!E9,0) -> 945274 | F10: =IF(E10>0,0,'2.ESF'!E9-'2.ESF'!D91) -> 0
C11: Derechos a Recibir Efectivo o Equivalentes | E11: =IF('2.ESF'!E10<'2.ESF'!D92,'2.ESF'!D92-'2.ESF'!E10,0) -> 787093 | F11: =IF(E11>0,0,'2.ESF'!E10-'2.ESF'!D92) -> 0
C12: Derechos a Recibir Bienes o Servicios | E12: =IF('2.ESF'!E11<'2.ESF'!D93,'2.ESF'!D93-'2.ESF'!E11,0) -> 0 | F12: =IF(E12>0,0,'2.ESF'!E11-'2.ESF'!D93) -> 0
C13: Inventarios | E13: =IF('2.ESF'!E12<'2.ESF'!D94,'2.ESF'!D94-'2.ESF'!E12,0) -> 0 | F13: =IF(E13>0,0,'2.ESF'!E12-'2.ESF'!D94) -> 0
C14: Almacenes | E14: =IF('2.ESF'!E13<'2.ESF'!D95,'2.ESF'!D95-'2.ESF'!E13,0) -> 0 | F14: =IF(E14>0,0,'2.ESF'!E13-'2.ESF'!D95) -> 0
C15: Estimación por Pérdida o Deterioro de Activos Circulantes | E15: =IF('2.ESF'!E14<'2.ESF'!D96,'2.ESF'!D96-'2.ESF'!E14,0) -> 0 | F15: =IF(E15>0,0,'2.ESF'!E14-'2.ESF'!D96) -> 0
C16: Otros Activos Circulantes | E16: =IF('2.ESF'!E15<'2.ESF'!D97,'2.ESF'!D97-'2.ESF'!E15,0) -> 0 | F16: =IF(E16>0,0,'2.ESF'!E15-'2.ESF'!D97) -> 0
C18: Activo No Circulante | E18: =SUM(E19:E27) -> 0 | F18: =SUM(F19:F27) -> 8212786
C19: Inversiones Financieras a Largo Plazo | E19: =IF('2.ESF'!E20<'2.ESF'!D104,'2.ESF'!D104-'2.ESF'!E20,0) -> 0 | F19: =IF(E19>0,0,'2.ESF'!E20-'2.ESF'!D104) -> 0
C20: Derechos a Recibir Efectivo o Equivalentes a Largo Plazo | E20: =IF('2.ESF'!E21<'2.ESF'!D105,'2.ESF'!D105-'2.ESF'!E21,0) -> 0 | F20: =IF(E20>0,0,'2.ESF'!E21-'2.ESF'!D105) -> 0
C21: Bienes Inmuebles, Infraestructura y Construcciones en Proceso | E21: =IF('2.ESF'!E22<'2.ESF'!D106,'2.ESF'!D106-'2.ESF'!E22,0) -> 0 | F21: =IF(E21>0,0,'2.ESF'!E22-'2.ESF'!D106) -> 8046632
C22: Bienes Muebles | E22: =IF('2.ESF'!E23<'2.ESF'!D107,'2.ESF'!D107-'2.ESF'!E23,0) -> 0 | F22: =IF(E22>0,0,'2.ESF'!E23-'2.ESF'!D107) -> 61308
C23: Activos Intangibles | E23: =IF('2.ESF'!E24<'2.ESF'!D108,'2.ESF'!D108-'2.ESF'!E24,0) -> 0 | F23: =IF(E23>0,0,'2.ESF'!E24-'2.ESF'!D108) -> 104846
C24: Depreciación, Deterioro y Amortización Acumulada de Bienes | E24: =IF('2.ESF'!E25<'2.ESF'!D109,'2.ESF'!D109-'2.ESF'!E25,0) -> 0 | F24: =IF(E24>0,0,'2.ESF'!E25-'2.ESF'!D109) -> 0
C25: Activos Diferidos | E25: =IF('2.ESF'!E26<'2.ESF'!D110,'2.ESF'!D110-'2.ESF'!E26,0) -> 0 | F25: =IF(E25>0,0,'2.ESF'!E26-'2.ESF'!D110) -> 0
C26: Estimación por Pérdida o Deterioro de Activos no Circulantes | E26: =IF('2.ESF'!E27<'2.ESF'!D111,'2.ESF'!D111-'2.ESF'!E27,0) -> 0 | F26: =IF(E26>0,0,'2.ESF'!E27-'2.ESF'!D111) -> 0
C27: Otros Activos no Circulantes | E27: =IF('2.ESF'!E28<'2.ESF'!D112,'2.ESF'!D112-'2.ESF'!E28,0) -> 0 | F27: =IF(E27>0,0,'2.ESF'!E28-'2.ESF'!D112) -> 0
C29: PASIVO | E29: =E30+E40 -> 1320356 | F29: =F30+F40 -> 0
C30: Pasivo Circulante | E30: =SUM(E31:E38) -> 1320356 | F30: =SUM(F31:F38) -> 0
C31: Cuentas por Pagar a Corto Plazo | E31: =IF('2.ESF'!J9>'2.ESF'!I91,'2.ESF'!J9-'2.ESF'!I91,0) -> 1320356 | F31: =IF(E31>0,0,'2.ESF'!I91-'2.ESF'!J9) -> 0
C32: Documentos por Pagar a Corto Plazo | E32: =IF('2.ESF'!J10>'2.ESF'!I92,'2.ESF'!J10-'2.ESF'!I92,0) -> 0 | F32: =IF(E32>0,0,'2.ESF'!I92-'2.ESF'!J10) -> 0
C33: Porción a Corto Plazo de la Deuda Pública a Largo Plazo | E33: =IF('2.ESF'!J11>'2.ESF'!I93,'2.ESF'!J11-'2.ESF'!I93,0) -> 0 | F33: =IF(E33>0,0,'2.ESF'!I93-'2.ESF'!J11) -> 0
C34: Títulos y Valores a Corto Plazo | E34: =IF('2.ESF'!J12>'2.ESF'!I94,'2.ESF'!J12-'2.ESF'!I94,0) -> 0 | F34: =IF(E34>0,0,'2.ESF'!I94-'2.ESF'!J12) -> 0
C35: Pasivos Diferidos a Corto Plazo | E35: =IF('2.ESF'!J13>'2.ESF'!I95,'2.ESF'!J13-'2.ESF'!I95,0) -> 0 | F35: =IF(E35>0,0,'2.ESF'!I95-'2.ESF'!J13) -> 0
C36: Fondos y Bienes de Terceros en Garantía y/o Administración a Corto Plazo | E36: =IF('2.ESF'!J14>'2.ESF'!I96,'2.ESF'!J14-'2.ESF'!I96,0) -> 0 | F36: =IF(E36>0,0,'2.ESF'!I96-'2.ESF'!J14) -> 0
C37: Provisiones a Corto Plazo | E37: =IF('2.ESF'!J15>'2.ESF'!I97,'2.ESF'!J15-'2.ESF'!I97,0) -> 0 | F37: =IF(E37>0,0,'2.ESF'!I97-'2.ESF'!J15) -> 0
C38: Otros Pasivos a Corto Plazo | E38: =IF('2.ESF'!J16>'2.ESF'!I98,'2.ESF'!J16-'2.ESF'!I98,0) -> 0 | F38: =IF(E38>0,0,'2.ESF'!I98-'2.ESF'!J16) -> 0
C40: Pasivo No Circulante | E40: =SUM(E41:E46) -> 0 | F40: =SUM(F41:F46) -> 0
C41: Cuentas por Pagar a Largo Plazo | E41: =IF('2.ESF'!J21>'2.ESF'!I104,'2.ESF'!J21-'2.ESF'!I104,0) -> 0 | F41: =IF(E41>0,0,'2.ESF'!I104-'2.ESF'!J21) -> 0
C42: Documentos por Pagar a Largo Plazo | E42: =IF('2.ESF'!J22>'2.ESF'!I105,'2.ESF'!J22-'2.ESF'!I105,0) -> 0 | F42: =IF(E42>0,0,'2.ESF'!I105-'2.ESF'!J22) -> 0
C43: Deuda Pública a Largo Plazo | E43: =IF('2.ESF'!J23>'2.ESF'!I106,'2.ESF'!J23-'2.ESF'!I106,0) -> 0 | F43: =IF(E43>0,0,'2.ESF'!I106-'2.ESF'!J23) -> 0
C44: Pasivos Diferidos a Largo Plazo | E44: =IF('2.ESF'!J24>'2.ESF'!I107,'2.ESF'!J24-'2.ESF'!I107,0) -> 0 | F44: =IF(E44>0,0,'2.ESF'!I107-'2.ESF'!J24) -> 0
C45: Fondos y Bienes de Terceros en Garantía y/o en Administración a Largo Plazo | E45: =IF('2.ESF'!J25>'2.ESF'!I108,'2.ESF'!J25-'2.ESF'!I108,0) -> 0 | F45: =IF(E45>0,0,'2.ESF'!I108-'2.ESF'!J25) -> 0
...

Sheet 4.EAA
B1: ='3.ECSF'!B1:G1 -> CUARTO INFORME TRIMESTRAL DEL GASTO PÚBLICO 2021
B2: ='3.ECSF'!B2:G2 -> INSTITUTO TECNOLÓGICO SUPERIOR DE PEROTE
B3: Estado Analítico del Activo
B4: ='3.ECSF'!B4:G4 -> Del 1 de Enero al 31 de Diciembre de 2021
C6: Concepto | E6: Saldo Inicial | F6: Cargos del Periodo | G6: Abonos del Periodo | H6: Saldo Final | I6: Variación del Periodo
E7: 1 | F7: 2 | G7: 3 | H7: 4 =(1+2-3) | I7: (4-1)
C9: ACTIVO | E9: =E11+E20 -> 59494274 | F9: =F11+F20 -> 175065971 | G9: =G11+G20 -> 168585552 | H9: =H11+H20 -> 65974693 | I9: =I11+I20 -> 6480419 | K9: =H9-'2.ESF'!E33 -> 0
C11: Activo Circulante | E11: =SUM(E12:E18) -> 32587518 | F11: =SUM(F12:F18) -> 166853185 | G11: =SUM(G12:G18) -> 168585552 | H11: =SUM(H12:H18) -> 30855151 | I11: =SUM(I12:I18) -> -1732367 | K11: =H11-'2.ESF'!E17 -> 0
C12: Efectivo y Equivalentes | E12: ='2.ESF'!D91 -> 2601279 | F12: 109186861 | G12: 110132135 | H12: =E12+F12-G12 -> 1656005 | I12: =H12-E12 -> -945274 | K12: =H12-'2.ESF'!E9 -> 0
C13: Derechos a Recibir Efectivo o Equivalentes | E13: ='2.ESF'!D92 -> 29986239 | F13: 57666324 | G13: 58453417 | H13: =E13+F13-G13 -> 29199146 | I13: =H13-E13 -> -787093 | K13: =H13-'2.ESF'!E10 -> 0
C14: Derechos a Recibir Bienes o Servicios | E14: ='2.ESF'!D93 -> 0 | F14: 0 | G14: 0 | H14: =E14+F14-G14 -> 0 | I14: =H14-E14 -> 0 | K14: =H14-'2.ESF'!E11 -> 0
C15: Inventarios | E15: ='2.ESF'!D94 -> 0 | F15: 0 | G15: 0 | H15: =E15+F15-G15 -> 0 | I15: =H15-E15 -> 0 | K15: =H15-'2.ESF'!E12 -> 0
C16: Almacenes | E16: ='2.ESF'!D95 -> 0 | F16: 0 | G16: 0 | H16: =E16+F16-G16 -> 0 | I16: =H16-E16 -> 0 | K16: =H16-'2.ESF'!E13 -> 0
C17: Estimación por Pérdida o Deterioro de Activos Circulantes | E17: ='2.ESF'!D96 -> 0 | F17: 0 | G17: 0 | H17: =E17+F17-G17 -> 0 | I17: =H17-E17 -> 0 | K17: =H17-'2.ESF'!E14 -> 0
C18: Otros Activos Circulantes | E18: ='2.ESF'!D97 -> 0 | F18: 0 | G18: 0 | H18: =E18+F18-G18 -> 0 | I18: =H18-E18 -> 0 | K18: =H18-'2.ESF'!E15 -> 0
C20: Activo No Circulante | E20: =SUM(E21:E29) -> 26906756 | F20: =SUM(F21:F29) -> 8212786 | G20: =SUM(G21:G29) -> 0 | H20: =SUM(H21:H29) -> 35119542 | I20: =SUM(I21:I29) -> 8212786 | K20: =H20-'2.ESF'!E31 -> 0
C21: Inversiones Financieras a Largo Plazo | E21: ='2.ESF'!D104 -> 0 | F21: 0 | G21: 0 | H21: =E21+F21-G21 -> 0 | I21: =H21-E21 -> 0 | K21: =H21-'2.ESF'!E20 -> 0
C22: Derechos a Recibir Efectivo o Equivalentes a Largo Plazo | E22: ='2.ESF'!D105 -> 0 | F22: 0 | G22: 0 | H22: =E22+F22-G22 -> 0 | I22: =H22-E22 -> 0 | K22: =H22-'2.ESF'!E21 -> 0
C23: Bienes Inmuebles, Infraestructura y Construcciones en Proceso | E23: ='2.ESF'!D106 -> 15283110 | F23: 8046632 | G23: 0 | H23: =E23+F23-G23 -> 23329742 | I23: =H23-E23 -> 8046632 | K23: =H23-'2.ESF'!E22 -> 0
C24: Bienes Muebles | E24: ='2.ESF'!D107 -> 11394830 | F24: 61308 | G24: 0 | H24: =E24+F24-G24 -> 11456138 | I24: =H24-E24 -> 61308 | K24: =H24-'2.ESF'!E23 -> 0
C25: Activos Intangibles | E25: ='2.ESF'!D108 -> 228816 | F25: 104846 | G25: 0 | H25: =E25+F25-G25 -> 333662 | I25: =H25-E25 -> 104846 | K25: =H25-'2.ESF'!E24 -> 0
C26: Depreciación, Deterioro y Amortización Acumulada de Bienes | E26: ='2.ESF'!D109 -> 0 | F26: 0 | G26: 0 | H26: =E26+F26-G26 -> 0 | I26: =H26-E26 -> 0 | K26: =H26-'2.ESF'!E25 -> 0
C27: Activos Diferidos | E27: ='2.ESF'!D110 -> 0 | F27: 0 | G27: 0 | H27: =E27+F27-G27 -> 0 | I27: =H27-E27 -> 0 | K27: =H27-'2.ESF'!E26 -> 0
C28: Estimación por Pérdida o Deterioro de Activos no Circulantes | E28: ='2.ESF'!D111 -> 0 | F28: 0 | G28: 0 | H28: =E28+F28-G28 -> 0 | I28: =H28-E28 -> 0 | K28: =H28-'2.ESF'!E27 -> 0
C29: Otros Activos no Circulantes | E29: ='2.ESF'!D112 -> 0 | F29: 0 | G29: 0 | H29: =E29+F29-G29 -> 0 | I29: =H29-E29 -> 0 | K29: =H29-'2.ESF'!E28 -> 0
B31: Bajo protesta de decir verdad declaramos que los Estados Financieros y sus Notas son razonablemente correctos y responsabilidad del emisor.

Sheet 5. EADOP
B1: ='4.EAA'!B1:J1 -> CUARTO INFORME TRIMESTRAL DEL GASTO PÚBLICO 2021
B2: ='4.EAA'!B2:J2 -> INSTITUTO TECNOLÓGICO SUPERIOR DE PEROTE
B3: Estado Analítico de la Deuda y Otros Pasivos
B4: ='4.EAA'!B4:J4 -> Del 1 de Enero al 31 de Diciembre de 2021
C6: Denominación de las Deudas | G6: Moneda de Contratación | H6: Institución o País Acreedor | I6: Saldo Inicial del Periodo | J6: Saldo Final del Periodo
C9: DEUDA PÚBLICA
C10: Corto Plazo
C11: Deuda Interna | I11: =SUM(I12:I14) -> 0 | J11: =SUM(J12:J14) -> 0
D12: Instituciones de Crédito | I12: 0 | J12: 0
D13: Títulos y Valores | I13: 0 | J13: 0
D14: Arrendamientos Financieros | I14: 0 | J14: 0
C16: Deuda Externa | I16: =SUM(I17:I20) -> 0 | J16: =SUM(J17:J20) -> 0
D17: Organismos Financieros Internacionales | I17: 0 | J17: 0
D18: Deuda Bilateral | I18: 0 | J18: 0
D19: Títulos y Valores | I19: 0 | J19: 0
D20: Arrendamientos Financieros | I20: 0 | J20: 0
C22: Subtotal a Corto Plazo | I22: =I11+I16 -> 0 | J22: =J11+J16 -> 0
C24: Largo Plazo
C25: Deuda Interna | I25: =SUM(I26:I28) -> 0 | J25: =SUM(J26:J28) -> 0
D26: Instituciones de Crédito | I26: 0 | J26: 0
D27: Títulos y Valores | I27: 0 | J27: 0
D28: Arrendamientos Financieros | I28: 0 | J28: 0
C30: Deuda Externa | I30: =SUM(I31:I34) -> 0 | J30: =SUM(J31:J34) -> 0
D31: Organismos Financieros Internacionales | I31: 0 | J31: 0
D32: Deuda Bilateral | I32: 0 | J32: 0
D33: Títulos y Valores | I33: 0 | J33: 0
D34: Arrendamientos Financieros | I34: 0 | J34: 0
C36: Subtotal a Largo Plazo | I36: =I25+I30 -> 0 | J36: =J25+J30 -> 0
C38: Otros Pasivos | I38: ='2.ESF'!I113 -> 17356262 | J38: ='2.ESF'!J30 -> 18676618
C40: Total de Deuda y Otros Pasivos | I40: =I38 -> 17356262 | J40: =J38 -> 18676618
B41: Bajo protesta de decir verdad declaramos que los Estados Financieros y sus Notas son razonablemente correctos y responsabilidad del emisor

Sheet 6.EVHP
B1: ='5. EADOP'!B1:K1 -> CUARTO INFORME TRIMESTRAL DEL GASTO PÚBLICO 2021
B2: ='5. EADOP'!B2:K2 -> INSTITUTO TECNOLÓGICO SUPERIOR DE PEROTE
B3: Estado de Variación en la Hacienda Pública
B4: ='5. EADOP'!B4:K4 -> Del 1 de Enero al 31 de Diciembre de 2021
C6: Concepto | E6: Hacienda Pública/Patrimonio Contribuido | F6: Hacienda Pública/Patrimonio Generado de Ejercicios Anteriores | G6: Hacienda Pública/Patrimonio Generado del Ejercicio | H6: Exceso o Insuficiencia en la Actualización de la Hacienda Pública / Patrimonio | I6: TOTAL
B8: Hacienda Pública / Patrimonio Contribuido Neto de 2020 | E8: =SUM(E9:E11) -> 4347 | I8: =SUM(E8:H8) -> 4347
C9: Aportaciones | E9: ='2.ESF'!I119 -> 0 | I9: =SUM(E9:H9) -> 0
C10: Donaciones de Capital | E10: ='2.ESF'!I120 -> 4347 | I10: =SUM(E10:H10) -> 4347
C11: Actualización de la Hacienda Pública/Patrimonio | E11: ='2.ESF'!I121 -> 0 | I11: =SUM(E11:H11) -> 0
B13: Hacienda Pública/Patrimonio Generado Neto de 2020 | F13: =SUM(F15:F18) -> 41935515 | G13: =G14 -> 198150 | I13: =SUM(E13:H13) -> 42133665
C14: Resultados del Ejercicio (Ahorro/Desahorro) | G14: ='2.ESF'!I125 -> 198150 | I14: =SUM(E14:H14) -> 198150
C15: Resultados de Ejercicios Anteriores | F15: ='2.ESF'!I126 -> 19898582 | I15: =SUM(E15:H15) -> 19898582
C16: Revalúos | F16: ='2.ESF'!I127 -> 9093091 | I16: =SUM(E16:H16) -> 9093091
C17: Reservas | F17: ='2.ESF'!I128 -> 0 | I17: =SUM(E17:H17) -> 0
C18: Rectificaciones de Resultados de Ejercicios Anteriores | F18: ='2.ESF'!I129 -> 12943842 | I18: =SUM(E18:H18) -> 12943842
B20: Exceso o Insuficiencia en la Actualización de la Hacienda Pública /Patrimonio Neto de 2020 | H20: =SUM(H21:H22) -> 0 | I20: =SUM(E20:H20) -> 0
C21: Resultado por Posición Monetaria | H21: ='2.ESF'!I133 -> 0 | I21: =SUM(E21:H21) -> 0
C22: Resultado por Tenencia de Activos no Monetarios | H22: ='2.ESF'!I134 -> 0 | I22: =SUM(E22:H22) -> 0
B24: Hacienda Pública/Patrimonio Neto Final del Ejercicio 2020 | E24: =E8+E13+E20 -> 4347 | F24: =F8+F13+F20 -> 41935515 | G24: =G8+G13+G20 -> 198150 | H24: =H8+H13+H20 -> 0 | I24: =SUM(E24:H24) -> 42138012
C26: Cambios en la Hacienda Pública/Patrimonio Neto de 2021 | E26: =SUM(E27:E29) -> 0 | I26: =SUM(E26:H26) -> 0
C27: Aportaciones | E27: ='2.ESF'!J35-'2.ESF'!I119 -> 0 | I27: =SUM(E27:H27) -> 0
C28: Donaciones de Capital | E28: ='2.ESF'!J36-'2.ESF'!I120 -> 0 | I28: =SUM(E28:H28) -> 0
C29: Actualización de la Hacienda Pública/Patrimonio | E29: ='2.ESF'!J37-'2.ESF'!I121 -> 0 | I29: =SUM(E29:H29) -> 0
C31: Variaciones de la Hacienda Pública/Patrimonio Neto de 2021 | F31: =SUM(F32:F36) -> -2854574 | G31: =SUM(G32:G36) -> 8014637 | I31: =SUM(E31:H31) -> 5160063
C32: Resultados del Ejercicio (Ahorro/Desahorro) | G32: ='2.ESF'!J40 -> 166155 | I32: =SUM(E32:H32) -> 166155
C33: Resultados de Ejercicios Anteriores | F33: ='2.ESF'!J41-'2.ESF'!I126 -> -2854574 | G33: =G14*-1 -> -198150 | I33: =SUM(E33:H33) -> -3052724
C34: Revalúos | G34: ='2.ESF'!J42-'2.ESF'!I127 -> 8046632 | I34: =SUM(E34:H34) -> 8046632
C35: Reservas | G35: ='2.ESF'!J43-'2.ESF'!I128 -> 0 | I35: =SUM(E35:H35) -> 0
C36: Rectificaciones de Resultados de Ejercicios Anteriores | G36: ='2.ESF'!J44-'2.ESF'!I129 -> 0 | I36: =SUM(E36:H36) -> 0
B38: Exceso o Insuficiencia en la Actualización de la Hacienda Pública /Patrimonio Neto de 2021 | H38: =SUM(H39:H40) -> 0 | I38: =SUM(E38:H38) -> 0
C39: Resultado por Posición Monetaria | H39: ='2.ESF'!J47-'2.ESF'!I133 -> 0 | I39: =SUM(E39:H39) -> 0
C40: Resultado por Tenencia de Activos no Monetarios | H40: ='2.ESF'!J48-'2.ESF'!I134 -> 0 | I40: =SUM(E40:H40) -> 0
C42: Saldo Neto en la Hacienda Pública / Patrimonio 2021 | E42: =E24+E26+E31+E38 -> 4347 | F42: =F24+F26+F31+F38 -> 39080941 | G42: =G24+G26+G31+G38 -> 8212787 | H42: =H24+H26+H31+H38 -> 0 | I42: =SUM(E42:H42) -> 47298075 | L42: =IF(I42='2.ESF'!J50,"","ERROR SALDO")
B43: Bajo protesta de decir verdad declaramos que los Estados Financieros y sus Notas son razonablemente correctos y responsabilidad del emisor

Sheet 7.EFE
B1: ='6.EVHP'!B1:J1 -> CUARTO INFORME TRIMESTRAL DEL GASTO PÚBLICO 2021
B2: ='6.EVHP'!B2:J2 -> INSTITUTO TECNOLÓGICO SUPERIOR DE PEROTE
B3: Estado de Flujos de Efectivo
B4: ='1.EA'!B4:G4 -> Del 1 de Enero al 31 de Diciembre de 2021
B6: Concepto | G6: 2021 | H6: =G6-1 -> 2020
B8: Flujos de Efectivo de las Actividades de Operación
C9: Origen | G9: =SUM(G10:G19) -> 58428008 | H9: =SUM(H10:H19) -> 63496285
D10: Impuestos | G10: ='1.EA'!E9 -> 0 | H10: ='1.EA'!F9 -> 0
D11: Cuotas y Aportaciones de Seguridad Social | G11: ='1.EA'!E10 -> 0 | H11: ='1.EA'!F10 -> 0
D12: Contribuciones de mejoras | G12: ='1.EA'!E11 -> 0 | H12: ='1.EA'!F11 -> 0
D13: Derechos | G13: ='1.EA'!E12 -> 0 | H13: ='1.EA'!F12 -> 0
D14: Productos | G14: ='1.EA'!E13 -> 0 | H14: ='1.EA'!F13 -> 0
D15: Aprovechamientos | G15: ='1.EA'!E14 -> 0 | H15: ='1.EA'!F14 -> 0
D16: Ingresos por Venta de Bienes y Prestación de Servicios | G16: ='1.EA'!E15 -> 4856859 | H16: ='1.EA'!F15 -> 5182088
D17: Participaciones y Aportaciones, Convenios, Incentivos Derivados de la Colaboración Fiscal y Fondos Distintos de Aportaciones | G17: ='1.EA'!E18 -> 0 | H17: ='1.EA'!F18 -> 0
D18: Transferencias, Asignaciones y Subsidios y Subvenciones, y Pensiones y Jubilaciones | G18: ='1.EA'!E19 -> 49413290 | H18: ='1.EA'!F19 -> 48084270
D19: Otros Orígenes de Operación | G19: ='1.EA'!E21 -> 4157859 | H19: ='1.EA'!F21 -> 10229927
C20: Aplicación | G20: =SUM(G21:G36) -> 58261853 | H20: =SUM(H21:H36) -> 63298135
D21: Servicios Personales | G21: ='1.EA'!E32 -> 45461811 | H21: ='1.EA'!F32 -> 44059354
D22: Materiales y Suministros | G22: ='1.EA'!E33 -> 4587169 | H22: ='1.EA'!F33 -> 4764257
D23: Servicios Generales | G23: ='1.EA'!E34 -> 7769306 | H23: ='1.EA'!F34 -> 14042807
D24: Transferencias Internas y Asignaciones al Sector Público | G24: ='1.EA'!E37 -> 0 | H24: ='1.EA'!F37 -> 0
D25: Transferencias al resto del Sector Público | G25: ='1.EA'!E38 -> 0 | H25: ='1.EA'!F38 -> 0
D26: Subsidios y Subvenciones | G26: ='1.EA'!E39 -> 0 | H26: ='1.EA'!F39 -> 0
D27: Ayudas Sociales | G27: ='1.EA'!E40 -> 443567 | H27: ='1.EA'!F40 -> 431717
D28: Pensiones y Jubilaciones | G28: ='1.EA'!E41 -> 0 | H28: ='1.EA'!F41 -> 0
D29: Transferencias a Fideicomisos, Mandatos y Contratos Análogos | G29: ='1.EA'!E42 -> 0 | H29: ='1.EA'!F42 -> 0
D30: Transferencias a la Seguridad Social | G30: ='1.EA'!E43 -> 0 | H30: ='1.EA'!F43 -> 0
D31: Donativos | G31: ='1.EA'!E44 -> 0 | H31: ='1.EA'!F44 -> 0
D32: Transferencias al Exterior | G32: ='1.EA'!E45 -> 0 | H32: ='1.EA'!F45 -> 0
D33: Participaciones | G33: ='1.EA'!E48 -> 0 | H33: ='1.EA'!F48 -> 0
D34: Aportaciones | G34: ='1.EA'!E49 -> 0 | H34: ='1.EA'!F49 -> 0
D35: Convenios | G35: ='1.EA'!E50 -> 0 | H35: ='1.EA'!F50 -> 0
D36: Otras Aplicaciones de Operación | G36: ='1.EA'!E52+'1.EA'!E59+'1.EA'!E67 -> 0 | H36: ='1.EA'!F52+'1.EA'!F59+'1.EA'!F67 -> 0
C37: Flujos Netos de Efectivo por Actividades de Operación | G37: =G9-G20 -> 166155 | H37: =H9-H20 -> 198150
B39: Flujos de Efectivo de las Actividades de Inversión
C40: Origen | G40: =SUM(G41:G43) -> 4993910 | H40: =SUM(H41:H43) -> 0
D41: Bienes Inmuebles, Infraestructura y Construcciones en Proceso | G41: 0 | H41: 0
D42: Bienes Muebles | G42: 0 | H42: 0
D43: Otros Orígenes de Inversión | G43: 4993910 | H43: 0
...

Sheet 8.IPC
B1: ='6.EVHP'!B1:J1 -> CUARTO INFORME TRIMESTRAL DEL GASTO PÚBLICO 2021
B2: ='7.EFE'!B2:I2 -> INSTITUTO TECNOLÓGICO SUPERIOR DE PEROTE
B3: Informe sobre Pasivos Contingentes
B4: ='2.ESF'!B4:L4 -> Al 31 de Diciembre de 2021
B6: Al 31 de Diciembre de 2021, este instituto cuenta con pasivos contingentes por juicios laborales por $215,273.00
B15: Bajo protesta de decir verdad declaramos que los Estados Financieros y sus Notas son razonablemente correctos y son responsabilidad del emisor.

Sheet 9. Efec. Equiv. VA EN NOTAS
D3: 2021 | F3: =D3-1 -> 2020
B4: Efectivo en Bancos - Tesorería | D4: 0 | F4: 0
B5: Efectivo en Bancos - Dependencias | D5: ='2.ESF'!E9 -> 1656005 | F5: ='2.ESF'!F9 -> 2601279
B6: Inversiones temporales (hasta 3 meses) | D6: 0 | F6: 0
B7: Fondos con afectación específica | D7: 0 | F7: 0
B8: Depósitos de fondos de terceros y otros | D8: 0 | F8: 0
B9: Total de Efectivo y Equivalentes
H12: =D3 -> 2021 | I12: =F3 -> 2020
B13: Ahorro/Desahorro antes de rubros Extraordinarios | H13: ='1.EA'!E72 -> 166155 | I13: ='1.EA'!F72 -> 198150
B14: Movimientos de partidas (o rubros) que no afectan al efectivo.
B15: Depreciación | H15: 0 | I15: 0
B16: Amortización | H16: 0 | I16: 0
B17: Incrementos en las provisiones | H17: 0 | I17: 0
B18: Incremento en inversiones producido por revaluación | H18: 0 | I18: 0
B19: Ganancia/pérdida en venta de propiedad, planta y equipo | H19: 0 | I19: 0
B20: Incremento en cuentas por cobrar | H20: 0 | I20: 0
B21: Partidas extraordinarias | H21: 0 | I21: 0 | S21: .

Sheet 9. V) concilia VA EN NOTAS
B2: ='7.EFE'!B2:I2 -> INSTITUTO TECNOLÓGICO SUPERIOR DE PEROTE | F2: =B2 -> INSTITUTO TECNOLÓGICO SUPERIOR DE PEROTE
B3: Conciliación entre los Ingresos Presupuestarios y Contables | F3: Conciliación entre los Egresos Presupuestarios y los Gastos Contables
B4: Correspondiente del 1 de Enero al 31 de Diciembre de 2021 | F4: =B4 -> Correspondiente del 1 de Enero al 31 de Diciembre de 2021
B5: (Cifras en pesos) | F5: (Cifras en pesos)
B7: 1. Total de Ingresos Presupuestarios | D7: ='1.EA'!E28 -> 58428008 | F7: 1. Total de Egresos Presupuestarios | H7: 58428008
B9: 2. Más Ingresos Contables No Presupuestarios | D9: =SUM(C10:C15) -> 0 | F9: 2. Menos Egresos Presupuestarios No Contables | H9: =SUM(G10:G30) -> 166155
B10: 2.1 Ingresos Financieros | C10: 0 | F10: 2.1 Materias Primas y Materiales de Producción y Comercialización | G10: 0
B11: 2.2 Incremento por Variación de Inventarios | C11: ='1.EA'!E23 -> 0 | F11: 2.2 Materiales y Suministros | G11: 0
B12: 2.3 Disminución del Exceso de Estimaciones por Pérdida o Deterioro u Obsolescencia | C12: ='1.EA'!E24 -> 0 | F12: 2.3 Mobiliario y Equipo de Administración | G12: 61308
B13: 2.4 Disminución del Exceso de Provisiones | C13: ='1.EA'!E25 -> 0 | F13: 2.4 Mobiliario y Equipo Educacional y Recreativo | G13: 0
B14: 2.5 Otros Ingresos y Beneficios Varios | C14: 0 | F14: 2.5 Equipo e Instrumental Médico y de Laboratorio | G14: 0
B15: 2.6 Otros Ingresos Contables No Presupuestarios | C15: 0 | F15: 2.6 Vehículos y Equipo de Transporte | G15: 0
F16: 2.7 Equipo de Defensa y Seguridad | G16: 0
B17: 3. Menos Ingresos Presupuestarios No Contables | D17: =SUM(C18:C20) -> 0 | F17: 2.8 Maquinaria, Otros equipos y Herramientas | G17: 0
B18: 3.1 Aprovechamientos Patrimoniales | C18: 0 | F18: 2.9 Activos Biológicos | G18: 0
B19: 3.2 Ingresos Derivados de Financiamientos | C19: 0 | F19: 2.10 Bienes Inmuebles | G19: 0
B20: 3.3 Otros Ingresos Presupuestales No Contables | C20: 0 | F20: 2.11 Activos intangibles | G20: 104847
F21: 2.12 Obra Pública en Bienes de Dominio Público | G21: 0
B22: 4. Total de Ingresos Contables | D22: =D7+D9-D17 -> 58428008 | F22: 2.13 Obra Pública en Bienes Propios | G22: 0
D23: =IF(D22='1.EA'!E28,"","ERROR INGRESOS") | F23: 2.14 Acciones y Participaciones de Capital | G23: 0
F24: 2.15 Compra de Títulos y Valores | G24: 0
F25: 2.16 Concesión de Préstamos
F26: 2.17 Inversiones en Fideicomisos, Mandatos y Otros Análogos | G26: 0
F27: 2.18 Provisiones para Contingencias y Otras Erogaciones Especiales | G27: 0
F28: 2.19 Amortización de la Deuda Pública | G28: 0
F29: 2.20 Adeudos de Ejercicios Fiscales Anteriores (ADEFAS) | G29: 0
F30: 2.21 Otros Egresos Presupuestarios No Contables | G30: 0
F32: 3. Más Gastos Contables No Presupuestarios | H32: =SUM(G33:G39) -> 0
F33: 3.1 Estimaciones, Depreciaciones, Deterioros, Obsolescencia y Amortizaciones | G33: 0
F34: 3.2 Provisiones | G34: 0
F35: 3.3 Disminución de Inventarios | G35: 0
F36: 3.4 Aumento por Insuficiencia de Estimaciones por Pérdida o Deterioro u Obsolescencia | G36: 0
F37: 3.5 Aumento por Insuficiencia de Provisiones | G37: 0
F38: 3.6 Otros Gastos | G38: 0
F39: 3.7 Otros Gastos Contables No Presupuestarios | G39: 0
F41: 4. Total de Gastos Contables | G41: =H7-H9+H32 -> 58261853
G43: =IF(G41='1.EA'!E70,"","ERROR GASTO")

Sheet APARTADO II PRESUPUETARIOS
A7: GOBIERNO DEL ESTADO DE VERACRUZ DE IGNACIO DE LA LLAVE
B8: ='7.EFE'!B2:I2 -> INSTITUTO TECNOLÓGICO SUPERIOR DE PEROTE
A9: =CARÁTULA!A9 -> CUARTO INFORME TRIMESTRAL DEL GASTO PÚBLICO 2021
B10: ='APARTADO I INF. CONTABLE'!B8:D8 -> DEL 1 DE ENERO AL 31 DE DICIEMBRE DE 2021
B11: APARTADO II
B12: INFORMES PRESUPUESTARIOS

Sheet II.1EAI
B1: ='8.IPC'!B1:F1 -> CUARTO INFORME TRIMESTRAL DEL GASTO PÚBLICO 2021
B2: GOBIERNO DEL ESTADO DE VERACRUZ DE IGNACIO DE LA LLAVE
B3: ='APARTADO II PRESUPUETARIOS'!B8:D8 -> INSTITUTO TECNOLÓGICO SUPERIOR DE PEROTE
B4: Estado Analítico de Ingresos
B5: ='7.EFE'!B4:I4 -> Del 1 de Enero al 31 de Diciembre de 2021
B7: Rubro de Ingresos | E7: Ingreso | J7: Diferencia
E8: Estimado | F8: Ampliaciones y Reducciones | G8: Modificado | H8: Devengado | I8: Recaudado
E9: (1) | F9: (2) | G9: (3= 1 + 2) | H9: (4) | I9: (5) | J9: (6 = 5 - 1 )
B11: Impuestos | E11: 0 | F11: 0 | G11: =+E11+F11 -> 0 | H11: 0 | I11: 0 | J11: =+I11-E11 -> 0
B12: Cuotas y Aportaciones de Seguridad Social | E12: 0 | F12: 0 | G12: =+E12+F12 -> 0 | H12: 0 | I12: 0 | J12: =+I12-E12 -> 0
B13: Contribuciones de Mejoras | E13: 0 | F13: 0 | G13: =+E13+F13 -> 0 | H13: 0 | I13: 0 | J13: =+I13-E13 -> 0
B14: Derechos | E14: 0 | F14: 0 | G14: =+E14+F14 -> 0 | H14: 0 | I14: 0 | J14: =+I14-E14 -> 0
B15: Productos | E15: 0 | F15: 0 | G15: =+E15+F15 -> 0 | H15: 0 | I15: 0 | J15: =+I15-E15 -> 0
B16: Aprovechamientos | E16: 0 | F16: 0 | G16: =+E16+F16 -> 0 | H16: 0 | I16: 0 | J16: =+I16-E16 -> 0
B17: Ingresos por Ventas de Bienes, Prestación de Servicios y Otros Ingresos | E17: 5054293 | F17: 4157859 | G17: =+E17+F17 -> 9212152 | H17: 9014718 | I17: =H17 -> 9014718 | J17: =+I17-E17 -> 3960425
B18: Participaciones, Aportaciones, Convenios, Incentivos Derivados de la Colaboración Fiscal y Fondos Distintos de Aportaciones | E18: 0 | F18: 0 | G18: =+E18+F18 -> 0 | H18: 0 | I18: 0 | J18: =+I18-E18 -> 0
B19: Transferencias, Asignaciones, Subsidios y Subvenciones, Pensiones y Jubilaciones | E19: 21451225 | F19: 27962065 | G19: =+E19+F19 -> 49413290 | H19: 49413289 | I19: 49162726 | J19: =+I19-E19 -> 27711501
B20: Ingresos Derivados de Financiamientos | E20: 0 | F20: 0 | G20: =+E20+F20 -> 0 | H20: 0 | I20: 0 | J20: =+I20-E20 -> 0
D22: Total | E22: =SUM(E11:E20) -> 26505518 | F22: =SUM(F11:F20) -> 32119924 | G22: =SUM(G11:G20) -> 58625442 | H22: =SUM(H11:H20) -> 58428007 | I22: =SUM(I11:I20) -> 58177444 | J22: =SUM(J11:J20) -> 31671926
H23: Ingresos excedentes
B25: Estado Analítico de Ingresos Por Fuente de Financiamiento | E25: Ingreso | J25: Diferencia
E26: Estimado | F26: Ampliaciones y Reducciones | G26: Modificado | H26: Devengado | I26: Recaudado
E27: (1) | F27: (2) | G27: (3= 1 + 2) | H27: (4) | I27: (5) | J27: (6 = 5 - 1 )
B28: Ingresos del Poder Ejecutivo Federal o Estatal y de los Municipios | E28: =SUM(E29:E36) -> 0 | F28: =SUM(F29:F36) -> 0 | G28: =SUM(G29:G36) -> 0 | H28: =SUM(H29:H36) -> 0 | I28: =SUM(I29:I36) -> 0 | J28: =SUM(J29:J36) -> 0
C29: Impuestos | E29: 0 | F29: 0 | G29: =+E29+F29 -> 0 | H29: 0 | I29: 0 | J29: =+I29-E29 -> 0
C30: Cuotas y Aportaciones de Seguridad Social
C31: Contribuciones de Mejoras | E31: 0 | F31: 0 | G31: =+E31+F31 -> 0 | H31: 0 | I31: 0 | J31: =+I31-E31 -> 0
C32: Derechos | E32: 0 | F32: 0 | G32: =+E32+F32 -> 0 | H32: 0 | I32: 0 | J32: =+I32-E32 -> 0
C33: Productos | E33: 0 | F33: 0 | G33: =+E33+F33 -> 0 | H33: 0 | I33: 0 | J33: =+I33-E33 -> 0
C34: Aprovechamientos | E34: 0 | F34: 0 | G34: =+E34+F34 -> 0 | H34: 0 | I34: 0 | J34: =+I34-E34 -> 0
C35: Participaciones, Aportaciones, Convenios, Incentivos Derivados de la Colaboración Fiscal y Fondos Distintos de Aportaciones | E35: 0 | F35: 0 | G35: =+E35+F35 -> 0 | H35: 0 | I35: 0 | J35: =+I35-E35 -> 0
C36: Transferencias, Asignaciones, Subsidios y Subvenciones, Pensiones y Jubilaciones | E36: 0 | F36: 0 | G36: =+E36+F36 -> 0 | H36: 0 | I36: 0 | J36: =+I36-E36 -> 0
B37: Ingresos de los Entes Públicos de los Poderes Legislativo y Judicial, de los Órganos Autónomos y del Sector Paraestatal o Paramunicipal, así como de las Empresas Productivas del Estado | E37: =SUM(E38:E40) -> 26505518 | F37: =SUM(F38:F40) -> 32119924 | G37: =SUM(G38:G40) -> 58625442 | H37: =SUM(H38:H40) -> 58428007 | I37: =SUM(I38:I40) -> 58177444 | J37: =SUM(J38:J40) -> 31671926
C38: Cuotas y Aportaciones de Seguridad Social | E38: 0 | F38: 0 | G38: =+E38+F38 -> 0 | H38: 0 | I38: 0 | J38: =+I38-E38 -> 0
C39: Ingresos por Ventas de Bienes, Prestación de Servicios y Otros Ingresos | E39: =E17 -> 5054293 | F39: =F17 -> 4157859 | G39: =G17 -> 9212152 | H39: =H17 -> 9014718 | I39: =I17 -> 9014718 | J39: =+I39-E39 -> 3960425
C40: Transferencias, Asignaciones, Subsidios y Subvenciones, Pensiones y Jubilaciones | E40: =E19 -> 21451225 | F40: =F19 -> 27962065 | G40: =G19 -> 49413290 | H40: =H19 -> 49413289 | I40: =I19 -> 49162726 | J40: =+I40-E40 -> 27711501
B41: Ingresos derivados de financiamiento | E41: =+E42 -> 0 | F41: =+F42 -> 0 | G41: =+G42 -> 0 | H41: =+H42 -> 0 | I41: =+I42 -> 0 | J41: =+J42 -> 0
C42: Ingresos Derivados de Financiamientos | E42: 0 | F42: 0 | G42: =+E42+F42 -> 0 | H42: 0 | I42: 0 | J42: =+I42-E42 -> 0
D44: Total | E44: =E28+E37+E41 -> 26505518 | F44: =F28+F37+F41 -> 32119924 | G44: =G28+G37+G41 -> 58625442 | H44: =H28+H37+H41 -> 58428007 | I44: =I28+I37+I41 -> 58177444 | J44: =+J28+J37+J41 -> 31671926
H45: Ingresos excedentes

Sheet II.2CAdmon
B1: =II.1EAI!B1 -> CUARTO INFORME TRIMESTRAL DEL GASTO PÚBLICO 2021
B2: GOBIERNO DEL ESTADO DE VERACRUZ DE IGNACIO DE LA LLAVE
B3: =II.1EAI!B3 -> INSTITUTO TECNOLÓGICO SUPERIOR DE PEROTE
B4: Estado Analítico del Ejercicio del Presupuesto de Egresos
B5: Clasificación Administrativa
B6: =II.1EAI!B5 -> Del 1 de Enero al 31 de Diciembre de 2021
B8: Concepto | D8: Egresos | I8: Subejercicio
D9: Aprobado | E9: Ampliaciones/ (Reducciones) | F9: Modificado | G9: Devengado | H9: Pagado
D10: 1 | E10: 2 | F10: 3 = (1 + 2 ) | G10: 4 | H10: 5 | I10: 6 = ( 3 - 4 )
C12: Dependencia o Unidad Administrativa 1 | D12: 26505518 | E12: 32119924 | F12: =D12+E12 -> 58625442 | G12: 58428008 | H12: 56011764 | I12: =+F12-G12 -> 197434
C13: Dependencia o Unidad Administrativa 2 | F13: =+D13+E13 -> 0 | I13: =+F13-G13 -> 0
C14: Dependencia o Unidad Administrativa 3 | F14: =+D14+E14 -> 0 | I14: =+F14-G14 -> 0
C15: Dependencia o Unidad Administrativa 4 | F15: =+D15+E15 -> 0 | I15: =+F15-G15 -> 0
C16: Dependencia o Unidad Administrativa 6 | F16: =+D16+E16 -> 0 | I16: =+F16-G16 -> 0
C17: Dependencia o Unidad Administrativa 7 | F17: =+D17+E17 -> 0 | I17: =+F17-G17 -> 0
C18: Dependencia o Unidad Administrativa 8 | F18: =+D18+E18 -> 0 | I18: =+F18-G18 -> 0
C19: Dependencia o Unidad Administrativa 9 | F19: =+D19+E19 -> 0 | I19: =+F19-G19 -> 0
C20: Dependencia o Unidad Administrativa xx | F20: =+D20+E20 -> 0 | I20: =+F20-G20 -> 0
C22: Total del Gasto | D22: =SUM(D12:D20) -> 26505518 | E22: =SUM(E12:E20) -> 32119924 | F22: =SUM(F12:F20) -> 58625442 | G22: =SUM(G12:G20) -> 58428008 | H22: =SUM(H12:H20) -> 56011764 | I22: =SUM(I12:I20) -> 197434
F23: =IF(F22=II.1EAI!G44," ","NO CUADRA VS MODIFICADO INGRESOS")

Sheet II.3COG
B1: =II.2CAdmon!B1 -> CUARTO INFORME TRIMESTRAL DEL GASTO PÚBLICO 2021
B2: GOBIERNO DEL ESTADO DE VERACRUZ DE IGNACIO DE LA LLAVE
B3: =II.2CAdmon!B3 -> INSTITUTO TECNOLÓGICO SUPERIOR DE PEROTE
B4: Estado Analítico del Ejercicio del Presupuesto de Egresos
B5: Clasificación por Objeto del Gasto (Capítulo y Concepto)
B6: =II.2CAdmon!B6 -> Del 1 de Enero al 31 de Diciembre de 2021
B8: Concepto | D8: Egresos | I8: Subejercicio
D9: Aprobado | E9: Ampliaciones/ (Reducciones) | F9: Modificado | G9: Devengado | H9: Pagado | K9: NO SE IMPRIME. SÓLO DE REFERENCIA capítulo y concepto
D10: 1 | E10: 2 | F10: 3 = (1 + 2 ) | G10: 4 | H10: 5 | I10: 6 = ( 3 - 4 )
B11: Servicios Personales | D11: =SUM(D12:D18) -> 14429871 | E11: =SUM(E12:E18) -> 31031940 | F11: =+D11+E11 -> 45461811 | G11: =SUM(G12:G18) -> 45461811 | H11: =SUM(H12:H18) -> 44656421 | I11: =+F11-G11 -> 0
C12: Remuneraciones al Personal de Carácter Permanente | D12: 12061907 | E12: 14883840 | F12: =+D12+E12 -> 26945747 | G12: 26945747 | H12: =G12 -> 26945747 | I12: =+F12-G12 -> 0 | K12: 11
C13: Remuneraciones al Personal de Carácter Transitorio | D13: 0 | E13: 0 | F13: =+D13+E13 -> 0 | G13: 0 | H13: =G13 -> 0 | I13: =+F13-G13 -> 0 | K13: 12
C14: Remuneraciones Adicionales y Especiales | D14: 734793 | E14: 3835878 | F14: =+D14+E14 -> 4570671 | G14: 4570671 | H14: =G14 -> 4570671 | I14: =+F14-G14 -> 0 | K14: 13
C15: Seguridad Social | D15: 1013303 | E15: 5324036 | F15: =+D15+E15 -> 6337339 | G15: 6337339 | H15: 5531949 | I15: =+F15-G15 -> 0 | K15: =K14+1 -> 14
C16: Otras Prestaciones Sociales y Económicas | D16: 415870 | E16: 2972926 | F16: =+D16+E16 -> 3388796 | G16: 3388796 | H16: =G16 -> 3388796 | I16: =+F16-G16 -> 0 | K16: =K15+1 -> 15
C17: Previsiones | D17: 0 | E17: 0 | F17: =+D17+E17 -> 0 | G17: 0 | H17: =G17 -> 0 | I17: =+F17-G17 -> 0 | K17: =K16+1 -> 16
C18: Pago de Estímulos a Servidores Públicos | D18: 203998 | E18: 4015260 | F18: =+D18+E18 -> 4219258 | G18: 4219258 | H18: =G18 -> 4219258 | I18: =+F18-G18 -> 0 | K18: =K17+1 -> 17
B19: Materiales y Suministros | D19: =SUM(D20:D28) -> 6902658 | E19: =SUM(E20:E28) -> -2315489 | F19: =+D19+E19 -> 4587169 | G19: =SUM(G20:G28) -> 4587169 | H19: =SUM(H20:H28) -> 4587169 | I19: =+F19-G19 -> 0
C20: Materiales de Administración, Emisión de Documentos y Artículos Oficiales | D20: 4459589 | E20: -3415664 | F20: =+D20+E20 -> 1043925 | G20: 1043925 | H20: =G20 -> 1043925 | I20: =+F20-G20 -> 0 | K20: 21
C21: Alimentos y Utensilios | D21: 56585 | E21: -49187 | F21: =+D21+E21 -> 7398 | G21: 7398 | H21: =G21 -> 7398 | I21: =+F21-G21 -> 0 | K21: 22
C22: Materias Primas y Materiales de Producción y Comercialización | D22: 0 | E22: 0 | F22: =+D22+E22 -> 0 | G22: 0 | H22: =G22 -> 0 | I22: =+F22-G22 -> 0 | K22: 23
C23: Materiales y Artículos de Construcción y de Reparación | D23: 569262 | E23: 863654 | F23: =+D23+E23 -> 1432916 | G23: 1432916 | H23: =G23 -> 1432916 | I23: =+F23-G23 -> 0 | K23: 24
C24: Productos Químicos, Farmacéuticos y de Laboratorio | D24: 319944 | E24: 356561 | F24: =+D24+E24 -> 676505 | G24: 676505 | H24: =G24 -> 676505 | I24: =+F24-G24 -> 0 | K24: 25
C25: Combustibles, Lubricantes y Aditivos | D25: 828568 | E25: -614228 | F25: =+D25+E25 -> 214340 | G25: 214340 | H25: =G25 -> 214340 | I25: =+F25-G25 -> 0 | K25: 26
C26: Vestuario, Blancos, Prendas de Protección y Artículos Deportivos | D26: 131906 | E26: 329494 | F26: =+D26+E26 -> 461400 | G26: 461400 | H26: =G26 -> 461400 | I26: =+F26-G26 -> 0 | K26: 27
C27: Materiales y Suministros Para Seguridad | D27: 0 | E27: 0 | F27: =+D27+E27 -> 0 | G27: 0 | H27: =G27 -> 0 | I27: =+F27-G27 -> 0 | K27: 28
C28: Herramientas, Refacciones y Accesorios Menores | D28: 536804 | E28: 213881 | F28: =+D28+E28 -> 750685 | G28: 750685 | H28: =G28 -> 750685 | I28: =+F28-G28 -> 0 | K28: 29
B29: Servicios Generales | D29: =SUM(D30:D38) -> 5172989 | E29: =SUM(E30:E38) -> 2793751 | F29: =+D29+E29 -> 7966740 | G29: =SUM(G30:G38) -> 7769306 | H29: =SUM(H30:H38) -> 6294286 | I29: =+F29-G29 -> 197434
C30: Servicios Básicos | D30: 200000 | E30: 109581 | F30: =+D30+E30 -> 309581 | G30: 309581 | H30: 296085 | I30: =+F30-G30 -> 0 | K30: 31
C31: Servicios de Arrendamiento | D31: 0 | E31: 224604 | F31: =+D31+E31 -> 224604 | G31: 224604 | H31: =G31 -> 224604 | I31: =+F31-G31 -> 0 | K31: =K30+1 -> 32
C32: Servicios Profesionales, Científicos, Técnicos y Otros Servicios | D32: 0 | E32: 2023723 | F32: =+D32+E32 -> 2023723 | G32: 2023723 | H32: 1914067 | I32: =+F32-G32 -> 0 | K32: =K31+1 -> 33
C33: Servicios Financieros, Bancarios y Comerciales | D33: 3000 | E33: 635262 | F33: =+D33+E33 -> 638262 | G33: 638262 | H33: 550351 | I33: =+F33-G33 -> 0 | K33: =K32+1 -> 34
C34: Servicios de Instalación, Reparación, Mantenimiento y Conservación | D34: 0 | E34: 1864721 | F34: =+D34+E34 -> 1864721 | G34: 1864721 | H34: =G34 -> 1864721 | I34: =+F34-G34 -> 0 | K34: =K33+1 -> 35
C35: Servicios de Comunicación Social y Publicidad. | D35: 469039 | E35: 631 | F35: =+D35+E35 -> 469670 | G35: 469670 | H35: =G35 -> 469670 | I35: =+F35-G35 -> 0 | K35: =K34+1 -> 36
C36: Servicios de Traslado y Viáticos | D36: 2267615 | E36: -1878961 | F36: =+D36+E36 -> 388654 | G36: 191220 | H36: 186453 | I36: =+F36-G36 -> 197434 | K36: =K35+1 -> 37
C37: Servicios Oficiales | D37: 100000 | E37: 17323 | F37: =+D37+E37 -> 117323 | G37: 117323 | H37: =G37 -> 117323 | I37: =+F37-G37 -> 0 | K37: =K36+1 -> 38
C38: Otros Servicios Generales | D38: 2133335 | E38: -203133 | F38: =+D38+E38 -> 1930202 | G38: 1930202 | H38: 671012 | I38: =+F38-G38 -> 0 | K38: =K37+1 -> 39
B39: Transferencias, Asignaciones, Subsidios y Otras Ayudas | D39: =SUM(D40:D48) -> 0 | E39: =SUM(E40:E48) -> 443567 | F39: =+D39+E39 -> 443567 | G39: =SUM(G40:G48) -> 443567 | H39: =SUM(H40:H48) -> 307733 | I39: =+F39-G39 -> 0
C40: Transferencias Internas y Asignaciones al Sector Público | D40: 0 | E40: 0 | F40: =+D40+E40 -> 0 | G40: 0 | H40: 0 | I40: =+F40-G40 -> 0 | K40: 41
C41: Transferencias al Resto del Sector Público | D41: 0 | E41: 0 | F41: =+D41+E41 -> 0 | G41: 0 | H41: 0 | I41: =+F41-G41 -> 0 | K41: =K40+1 -> 42
...

Sheet II.4CTG
B1: =II.3COG!B1 -> CUARTO INFORME TRIMESTRAL DEL GASTO PÚBLICO 2021
B2: GOBIERNO DEL ESTADO DE VERACRUZ DE IGNACIO DE LA LLAVE
B3: =II.3COG!B3 -> INSTITUTO TECNOLÓGICO SUPERIOR DE PEROTE
B4: Estado Analítico del Ejercicio del Presupuesto de Egresos
B5: Clasificación Económica (por Tipo de Gasto)
B6: =II.3COG!B6 -> Del 1 de Enero al 31 de Diciembre de 2021
B8: Concepto | D8: Egresos | I8: Subejercicio
D9: Aprobado | E9: Ampliaciones/ (Reducciones) | F9: Modificado | G9: Devengado | H9: Pagado
D10: 1 | E10: 2 | F10: 3 = (1 + 2 ) | G10: 4 | H10: 5 | I10: 6 = ( 3 - 4 )
C12: Gasto Corriente | D12: 26505518 | E12: 31953769 | F12: =+D12+E12 -> 58459287 | G12: 58261853 | H12: 55845609 | I12: =+F12-G12 -> 197434
C14: Gasto de Capital | D14: 0 | E14: 166155 | F14: =+D14+E14 -> 166155 | G14: 166155 | H14: 166155 | I14: =+F14-G14 -> 0
C16: Amortización de la Deuda y Disminución de Pasivos | D16: 0 | E16: 0 | F16: =+D16+E16 -> 0 | G16: 0 | H16: 0 | I16: =+F16-G16 -> 0
C18: Pensiones y Jubilaciones | D18: 0 | E18: 0 | F18: =+D18+E18 -> 0 | G18: 0 | H18: 0 | I18: =+F18-G18 -> 0
C20: Participaciones | D20: 0 | E20: 0 | F20: =+D20+E20 -> 0 | G20: 0 | H20: 0 | I20: =+F20-G20 -> 0
C22: Total del Gasto | D22: =+D12+D14+D16+D18+D20 -> 26505518 | E22: =+E12+E14+E16+E18+E20 -> 32119924 | F22: =+F12+F14+F16+F18+F20 -> 58625442 | G22: =+G12+G14+G16+G18+G20 -> 58428008 | H22: =+H12+H14+H16+H18+H20 -> 56011764 | I22: =+I12+I14+I16+I18+I20 -> 197434
D23: =IF(D22=II.2CAdmon!D22," ","ERROR vs ADMVA") | E23: =IF(E22=II.2CAdmon!E22," ","ERROR vs ADMVA") | F23: =IF(F22=II.2CAdmon!F22," ","ERROR VS ADMVA") | G23: =IF(G22=II.2CAdmon!G22," ","ERROR VS ADMVA") | H23: =IF(H22=II.2CAdmon!H22," ","ERROR VS ADMVA") | I23: =IF(I22=II.2CAdmon!I22," ","ERROR VS ADMVA")

Sheet II.5CFG
B1: =II.4CTG!B1 -> CUARTO INFORME TRIMESTRAL DEL GASTO PÚBLICO 2021
B2: GOBIERNO DEL ESTADO DE VERACRUZ DE IGNACIO DE LA LLAVE
B3: =II.4CTG!B3 -> INSTITUTO TECNOLÓGICO SUPERIOR DE PEROTE
B4: Estado Analítico del Ejercicio del Presupuesto de Egresos
B5: Clasificación Funcional (Finalidad y Función)
B6: =II.4CTG!B6 -> Del 1 de Enero al 31 de Diciembre de 2021
B8: Concepto | D8: Egresos | I8: Subejercicio
D9: Aprobado | E9: Ampliaciones/ (Reducciones) | F9: Modificado | G9: Devengado | H9: Pagado
D10: 1 | E10: 2 | F10: 3 = (1 + 2 ) | G10: 4 | H10: 5 | I10: 6 = ( 3 - 4 )
B12: Gobierno | D12: =SUM(D13:D20) -> 0 | E12: =SUM(E13:E20) -> 0 | F12: =SUM(F13:F20) -> 0 | G12: =SUM(G13:G20) -> 0 | H12: =SUM(H13:H20) -> 0 | I12: =SUM(I13:I20) -> 0
C13: Legislación | F13: =+D13+E13 -> 0 | I13: =+F13-G13 -> 0
C14: Justicia | F14: =+D14+E14 -> 0 | I14: =+F14-G14 -> 0
C15: Coordinación de la Política de Gobierno | F15: =+D15+E15 -> 0 | I15: =+F15-G15 -> 0
C16: Relaciones Exteriores | F16: =+D16+E16 -> 0 | I16: =+F16-G16 -> 0
C17: Asuntos Financieros y Hacendarios | F17: =+D17+E17 -> 0 | I17: =+F17-G17 -> 0
C18: Seguridad Nacional | F18: =+D18+E18 -> 0 | I18: =+F18-G18 -> 0
C19: Asuntos de Orden Público y de Seguridad Interior | F19: =+D19+E19 -> 0 | I19: =+F19-G19 -> 0
C20: Otros Servicios Generales | F20: =+D20+E20 -> 0 | I20: =+F20-G20 -> 0
B22: Desarrollo Social | D22: =SUM(D23:D29) -> 26505518 | E22: =SUM(E23:E29) -> 32119924 | F22: =+D22+E22 -> 58625442 | G22: =SUM(G23:G29) -> 58428008 | H22: =SUM(H23:H29) -> 56011764 | I22: =+F22-G22 -> 197434
C23: Protección Ambiental | F23: =+D23+E23 -> 0 | I23: =+F23-G23 -> 0
C24: Vivienda y Servicios a la Comunidad | F24: =+D24+E24 -> 0 | I24: =+F24-G24 -> 0
C25: Salud | F25: =+D25+E25 -> 0 | I25: =+F25-G25 -> 0
C26: Recreación, Cultura y Otras Manifestaciones Sociales | F26: =+D26+E26 -> 0 | I26: =+F26-G26 -> 0
C27: Educación | D27: 26505518 | E27: 32119924 | F27: =+D27+E27 -> 58625442 | G27: 58428008 | H27: 56011764 | I27: =+F27-G27 -> 197434
C28: Protección Social | F28: =+D28+E28 -> 0 | I28: =+F28-G28 -> 0
C29: Otros Asuntos Sociales | F29: =+D29+E29 -> 0 | I29: =+F29-G29 -> 0
B31: Desarrollo Económico | D31: =SUM(D32:D40) -> 0 | E31: =SUM(E32:E40) -> 0 | F31: =+D31+E31 -> 0 | G31: =SUM(G32:G40) -> 0 | H31: =SUM(H32:H40) -> 0 | I31: =+F31-G31 -> 0
C32: Asuntos Económicos, Comerciales y Laborales en General | F32: =+D32+E32 -> 0 | I32: =+F32-G32 -> 0
C33: Agropecuaria, Silvicultura, Pesca y Caza | F33: =+D33+E33 -> 0 | I33: =+F33-G33 -> 0
C34: Combustibles y Energía | F34: =+D34+E34 -> 0 | I34: =+F34-G34 -> 0
C35: Minería, Manufacturas y Construcción | F35: =+D35+E35 -> 0 | I35: =+F35-G35 -> 0
C36: Transporte | F36: =+D36+E36 -> 0 | I36: =+F36-G36 -> 0
C37: Comunicaciones | F37: =+D37+E37 -> 0 | I37: =+F37-G37 -> 0
C38: Turismo | F38: =+D38+E38 -> 0 | I38: =+F38-G38 -> 0
C39: Ciencia, Tecnología e Innovación | F39: =+D39+E39 -> 0 | I39: =+F39-G39 -> 0
C40: Otras Industrias y Otros Asuntos Económicos | F40: =+D40+E40 -> 0 | I40: =+F40-G40 -> 0
B42: Otras no Clasificadas en Funciones Anteriores | D42: =SUM(D43:D46) -> 0 | E42: =SUM(E43:E46) -> 0 | F42: =+D42+E42 -> 0 | G42: =SUM(G43:G46) -> 0 | H42: =SUM(H43:H46) -> 0 | I42: =+F42-G42 -> 0
C43: Transacciones de la Deuda Publica / Costo Financiero de la Deuda | F43: =+D43+E43 -> 0 | I43: =+F43-G43 -> 0
C44: Transferencias, Participaciones y Aportaciones entre Diferentes Niveles y Ordenes de Gobierno | F44: =+D44+E44 -> 0 | I44: =+F44-G44 -> 0
C45: Saneamiento del Sistema Financiero | F45: =+D45+E45 -> 0 | I45: =+F45-G45 -> 0
...

Sheet II.6End Neto
B1: =II.5CFG!B1 -> CUARTO INFORME TRIMESTRAL DEL GASTO PÚBLICO 2021
B2: GOBIERNO DEL ESTADO DE VERACRUZ DE IGNACIO DE LA LLAVE
B3: =II.5CFG!B3 -> INSTITUTO TECNOLÓGICO SUPERIOR DE PEROTE
B4: Endeudamiento Neto
B5: =II.5CFG!B6 -> Del 1 de Enero al 31 de Diciembre de 2021
B7: Identificación de Crédito o Instrumento | D7: Contratación / Colocación | F7: Amortización | H7: Endeudamiento Neto
D8: A | F8: B | H8: C = A - B
B9: Créditos Bancarios
H10: =+D10-F10 -> 0
H11: =+D11-F11 -> 0
H12: =+D12-F12 -> 0
H13: =+D13-F13 -> 0
H14: =+D14-F14 -> 0
H15: =+D15-F15 -> 0
H16: =+D16-F16 -> 0
H17: =+D17-F17 -> 0
H18: =+D18-F18 -> 0
B19: Total Créditos Bancarios | D19: =SUM(D10:E18) -> 0 | F19: =SUM(F10:G18) -> 0 | H19: =+D19-F19 -> 0
B21: Otros Instrumentos de Deuda
H23: =+D23-F23 -> 0
H24: =+D24-F24 -> 0
H25: =+D25-F25 -> 0
H26: =+D26-F26 -> 0
H27: =+D27-F27 -> 0
H28: =+D28-F28 -> 0
H29: =+D29-F29 -> 0
H30: =+D30-F30 -> 0
B31: Total Otros Instrumentos de Deuda | D31: =SUM(D22:E30) -> 0 | F31: =SUM(F22:G30) -> 0 | H31: =+D31-F31 -> 0
B33: TOTAL | D33: =+D19+D31 -> 0 | F33: =+F19+F31 -> 0 | H33: =+H19+H31 -> 0

Sheet II.7Int
B1: ='II.6End Neto'!B1:I1 -> CUARTO INFORME TRIMESTRAL DEL GASTO PÚBLICO 2021
B2: GOBIERNO DEL ESTADO DE VERACRUZ DE IGNACIO DE LA LLAVE
B3: ='II.6End Neto'!B3:I3 -> INSTITUTO TECNOLÓGICO SUPERIOR DE PEROTE
B4: Intereses de la Deuda
B5: ='II.6End Neto'!B5:I5 -> Del 1 de Enero al 31 de Diciembre de 2021
B7: Identificación de Crédito o Instrumento | C7: Devengado | D7: Pagado
B8: Créditos Bancarios
B19: Total de Intereses de Créditos Bancarios | C19: =SUM(C9:C18) -> 0 | D19: =SUM(D9:D18) -> 0
B21: Otros Instrumentos de Deuda
B31: Total de Intereses de Otros Instrumentos de Deuda | C31: =SUM(C22:C30) -> 0 | D31: =SUM(D22:D30) -> 0
B33: TOTAL | C33: =+C19+C31 -> 0 | D33: =+D19+D31 -> 0

Sheet II.8Post Fiscal
B1: =II.7Int!B1 -> CUARTO INFORME TRIMESTRAL DEL GASTO PÚBLICO 2021
B2: GOBIERNO DEL ESTADO DE VERACRUZ DE IGNACIO DE LA LLAVE
B3: =II.7Int!B3 -> INSTITUTO TECNOLÓGICO SUPERIOR DE PEROTE
B4: Indicadores de Postura Fiscal
B5: =II.7Int!B5 -> Del 1 de Enero al 31 de Diciembre de 2021
B7: Concepto | D7: Estimado | E7: Devengado | F7: Pagado 3
C9: I. Ingresos Presupuestarios (I=1+2) | D9: =+D10+D11 -> 26505518 | E9: =+E10+E11 -> 58428007 | F9: =+F10+F11 -> 58177444
B10: 1. Ingresos del Gobierno de la Entidad Federativa 1 | D10: =+II.1EAI!E28 -> 0 | E10: =+II.1EAI!H28 -> 0 | F10: =+II.1EAI!I28 -> 0
B11: 2. Ingresos del Sector Paraestatal 1 | D11: =+II.1EAI!E37 -> 26505518 | E11: =+II.1EAI!H37 -> 58428007 | F11: =+II.1EAI!I37 -> 58177444
C13: II. Egresos Presupuestarios (II=3+4) | D13: =+D14+D15 -> 26505518 | E13: =+E14+E15 -> 58428008 | F13: =+F14+F15 -> 56011764
B14: 3. Egresos del Gobierno de la Entidad Federativa 2 | D14: 0 | E14: 0 | F14: 0
B15: 4. Egresos del Sector Paraestatal 2 | D15: =II.2CAdmon!D22 -> 26505518 | E15: =II.2CAdmon!G22 -> 58428008 | F15: =II.2CAdmon!H22 -> 56011764
C17: III. Balance Presupuestario (Superávit o Déficit) (III = I - II) | D17: =+D9-D13 -> 0 | E17: =+E9-E13 -> -1 | F17: =+F9-F13 -> 2165680
B19: Concepto | D19: Estimado | E19: Devengado | F19: Pagado 3
B21: III. Balance presupuestario (Superávit o Déficit) | D21: =+D17 -> 0 | E21: =+E17 -> -1 | F21: =+F17 -> 2165680
B23: IV. Intereses, Comisiones y Gastos de la Deuda | D23: 0 | E23: 0 | F23: 0
C25: V. Balance Primario ( Superávit o Déficit) (V= III - IV) | D25: =+D21-D23 -> 0 | E25: =+E21-E23 -> -1 | F25: =+F21-F23 -> 2165680
B27: Concepto | D27: Estimado | E27: Devengado | F27: Pagado 3
B29: A. Financiamiento | D29: =+II.1EAI!E41 -> 0 | E29: =+II.1EAI!H41 -> 0 | F29: =+II.1EAI!I41 -> 0
B31: B. Amortización de la deuda | D31: 0 | E31: 0 | F31: 0
C33: C. Endeudamiento ó desendeudamiento (C = A - B) | D33: =+D29-D31 -> 0 | E33: =+E29-E31 -> 0 | F33: =+F29-F31 -> 0
C35: 1 Los Ingresos que se presentan son los ingresos presupuestario totales sin incluir los ingresos por financiamientos. Los Ingresos del Gobierno de la Entidad Federativa corresponden a los del Poder Ejecutivo, Legislativo Judicial y Autónomos
C36: 2 Los egresos que se presentan son los egresos presupuestarios totales sin incluir los egresos por amortización. Los egresos del Gobierno de la Entidad Federativa corresponden a los del Poder Ejecutivo, Legislativo, Judicial y Órganos Autónomos
C37: 3 Para Ingresos se reportan los ingresos recaudados; para egresos se reportan los egresos pagados

Sheet APARTADO III INF. PROGRAMATICOS
A7: GOBIERNO DEL ESTADO DE VERACRUZ DE IGNACIO DE LA LLAVE
B8: ='APARTADO II PRESUPUETARIOS'!B8:D8 -> INSTITUTO TECNOLÓGICO SUPERIOR DE PEROTE
A9: ='APARTADO II PRESUPUETARIOS'!A9:E9 -> CUARTO INFORME TRIMESTRAL DEL GASTO PÚBLICO 2021
B10: ='APARTADO II PRESUPUETARIOS'!B10:D10 -> DEL 1 DE ENERO AL 31 DE DICIEMBRE DE 2021
B11: APARTADO III
B12: INFORMES PROGRAMÁTICOS

Sheet III.1CProg
B1: ='II.8Post Fiscal'!B1:F1 -> CUARTO INFORME TRIMESTRAL DEL GASTO PÚBLICO 2021
B2: GOBIERNO DEL ESTADO DE VERACRUZ DE IGNACIO DE LA LLAVE
B3: ='APARTADO III INF. PROGRAMATICOS'!B8:D8 -> INSTITUTO TECNOLÓGICO SUPERIOR DE PEROTE
B4: Gasto por Categoría Programática
B5: ='II.8Post Fiscal'!B5:F5 -> Del 1 de Enero al 31 de Diciembre de 2021
B7: Concepto | E7: Egresos | J7: Subejercicio
E8: Aprobado | F8: Ampliaciones/ (Reducciones) | G8: Modificado | H8: Devengado | I8: Pagado
E9: 1 | F9: 2 | G9: 3 = (1 + 2 ) | H9: 4 | I9: 5 | J9: 6 = ( 3 - 4 )
B10: Programas
C11: Subsidios: Sector Social y Privado o Entidades Federativas y Municipios | E11: =+E12+E13 -> 0 | F11: =+F12+F13 -> 0 | G11: =+E11+F11 -> 0 | H11: =+H12+H13 -> 0 | I11: =+I12+I13 -> 0 | J11: =+G11-H11 -> 0
D12: Sujetos a Reglas de Operación | G12: =+E12+F12 -> 0 | J12: =+G12-H12 -> 0
D13: Otros Subsidios | G13: =+E13+F13 -> 0 | J13: =+G13-H13 -> 0
C14: Desempeño de las Funciones | E14: =SUM(E15:E22) -> 25492215 | F14: =SUM(F15:F22) -> 26795888 | G14: =+E14+F14 -> 52288103 | H14: =SUM(H15:H22) -> 52090669 | I14: =SUM(I15:I22) -> 50479815 | J14: =+G14-H14 -> 197434
D15: Prestación de Servicios Públicos | E15: =26505518-1013303 -> 25492215 | F15: 26795888 | G15: =+E15+F15 -> 52288103 | H15: 52090669 | I15: 50479815 | J15: =+G15-H15 -> 197434
D16: Provisión de Bienes Públicos | G16: =+E16+F16 -> 0 | J16: =+G16-H16 -> 0
D17: Planeación, seguimiento y evaluación de políticas públicas | G17: =+E17+F17 -> 0 | J17: =+G17-H17 -> 0
D18: Promoción y fomento | G18: =+E18+F18 -> 0 | J18: =+G18-H18 -> 0
D19: Regulación y supervisión | G19: =+E19+F19 -> 0 | J19: =+G19-H19 -> 0
D20: Funciones de las Fuerzas Armadas (Únicamente Gobierno Federal) | G20: =+E20+F20 -> 0 | J20: =+G20-H20 -> 0
D21: Específicos | G21: =+E21+F21 -> 0 | J21: =+G21-H21 -> 0
D22: Proyectos de Inversión | G22: =+E22+F22 -> 0 | J22: =+G22-H22 -> 0
C23: Administrativos y de Apoyo | E23: =SUM(E24:E26) -> 0 | F23: =SUM(F24:F26) -> 0 | G23: =+E23+F23 -> 0 | H23: =SUM(H24:H26) -> 0 | I23: =SUM(I24:I26) -> 0 | J23: =+G23-H23 -> 0
D24: Apoyo al proceso presupuestario y para mejorar la eficiencia institucional | G24: =+E24+F24 -> 0 | J24: =+G24-H24 -> 0
D25: Apoyo a la función pública y al mejoramiento de la gestión | G25: =+E25+F25 -> 0 | J25: =+G25-H25 -> 0
D26: Operaciones ajenas | G26: =+E26+F26 -> 0 | J26: =+G26-H26 -> 0
C27: Compromisos | E27: =SUM(E28:E29) -> 0 | F27: =SUM(F28:F29) -> 0 | G27: =+E27+F27 -> 0 | H27: =SUM(H28:H29) -> 0 | I27: =SUM(I28:I29) -> 0 | J27: =+G27-H27 -> 0
D28: Obligaciones de cumplimiento de resolución jurisdiccional | G28: =+E28+F28 -> 0 | J28: =+G28-H28 -> 0
D29: Desastres Naturales | G29: =+E29+F29 -> 0 | J29: =+G29-H29 -> 0
C30: Obligaciones | E30: =SUM(E31:E34) -> 1013303 | F30: =SUM(F31:F34) -> 5324036 | G30: =+E30+F30 -> 6337339 | H30: =SUM(H31:H34) -> 6337339 | I30: =SUM(I31:I34) -> 5531949 | J30: =+G30-H30 -> 0
D31: Pensiones y jubilaciones | G31: =+E31+F31 -> 0 | J31: =+G31-H31 -> 0
D32: Aportaciones a la seguridad social | E32: 1013303 | F32: 5324036 | G32: =+E32+F32 -> 6337339 | H32: 6337339 | I32: 5531949 | J32: =+G32-H32 -> 0
D33: Aportaciones a fondos de estabilización | G33: =+E33+F33 -> 0 | J33: =+G33-H33 -> 0
D34: Aportaciones a fondos de inversión y reestructura de pensiones | G34: =+E34+F34 -> 0 | J34: =+G34-H34 -> 0
C35: Programas de Gasto Federalizado (Gobierno Federal) | E35: =SUM(E36) -> 0 | F35: =SUM(F36) -> 0 | G35: =+E35+F35 -> 0 | H35: =SUM(H36) -> 0 | I35: =SUM(I36) -> 0 | J35: =+G35-H35 -> 0
D36: Gasto Federalizado | G36: =+E36+F36 -> 0 | J36: =+G36-H36 -> 0
B37: Participaciones a entidades federativas y municipios | G37: =+E37+F37 -> 0 | J37: =+G37-H37 -> 0
B38: Costo financiero, deuda o apoyos a deudores y ahorradores de la banca | G38: =+E38+F38 -> 0 | J38: =+G38-H38 -> 0
B39: Adeudos de ejercicios fiscales anteriores | G39: =+E39+F39 -> 0 | J39: =+G39-H39 -> 0
C41: Total del Gasto | E41: =+E11+E14+E23+E27+E30+E35+E37+E38+E39 -> 26505518 | F41: =+F11+F14+F23+F27+F30+F35+F37+F38+F39 -> 32119924 | G41: =+G11+G14+G23+G27+G30+G35+G37+G38+G39 -> 58625442 | H41: =+H11+H14+H23+H27+H30+H35+H37+H38+H39 -> 58428008 | I41: =+I11+I14+I23+I27+I30+I35+I37+I38+I39 -> 56011764 | J41: =+J11+J14+J23+J27+J30+J35+J37+J38+J39 -> 197434
E43: =IF(E41=II.2CAdmon!D22," "," ERROR VS ADMVA") | F43: =IF(F41=II.2CAdmon!E22," "," ERROR VS ADMVA") | G43: =IF(G41=II.2CAdmon!F22," "," ERROR VS ADMVA") | H43: =IF(H41=II.2CAdmon!G22," "," ERROR VS ADMVA") | I43: =IF(I41=II.2CAdmon!H22," "," ERROR VS ADMVA") | J43: =IF(J41=II.2CAdmon!I22," "," ERROR VS ADMVA")

Sheet III.2PYP
A1: =III.1CProg!B1 -> CUARTO INFORME TRIMESTRAL DEL GASTO PÚBLICO 2021
B2: GOBIERNO DEL ESTADO DE VERACRUZ DE IGNACIO DE LA LLAVE
B3: Programas y Proyectos de Inversión
B4: =III.1CProg!B5 -> Del 1 de Enero al 31 de Diciembre de 2021
B5: (Pesos)
A6: Ente Público: | B6: =III.1CProg!B3 -> INSTITUTO TECNOLÓGICO SUPERIOR DE PEROTE
B8: Este instituto no cuenta con programas y proyectos de inversión

Sheet III.3IR
A1: =III.2PYP!A1 -> CUARTO INFORME TRIMESTRAL DEL GASTO PÚBLICO 2021
A2: GOBIERNO DEL ESTADO DE VERACRUZ DE IGNACIO DE LA LLAVE
A3: Indicadores de Resultados
A4: =III.2PYP!B4 -> Del 1 de Enero al 31 de Diciembre de 2021
A5: (Pesos)
A6: Ente Público: | B6: =III.1CProg!B3 -> INSTITUTO TECNOLÓGICO SUPERIOR DE PEROTE
A8: Se puede incluir las Matrices de Indicadores para resultados que se tengan, en la que se muestre el resultado obtenido en el Indicador
A9: · Formato libre
A10: · En caso de no aplicar se deberá asentar tal situación

Sheet APARTADO IV ANEXOS
B7: GOBIERNO DEL ESTADO DE VERACRUZ DE IGNACIO DE LA LLAVE
B8: ='APARTADO II PRESUPUETARIOS'!B8:D8 -> INSTITUTO TECNOLÓGICO SUPERIOR DE PEROTE
A9: ='APARTADO III INF. PROGRAMATICOS'!A9:E9 -> CUARTO INFORME TRIMESTRAL DEL GASTO PÚBLICO 2021
B10: ='APARTADO II PRESUPUETARIOS'!B10:D10 -> DEL 1 DE ENERO AL 31 DE DICIEMBRE DE 2021
B11: APARTADO IV
B12: ANEXOS

Sheet IV.1BMue
A1: =III.3IR!A1 -> CUARTO INFORME TRIMESTRAL DEL GASTO PÚBLICO 2021
A2: GOBIERNO DEL ESTADO DE VERACRUZ DE IGNACIO DE LA LLAVE
A3: Relación de Bienes Muebles que Componen el Patrimonio
A4: (Pesos)
A5: Al 31 de Diciembre de 2021
A6: Ente Público: | B6: =III.3IR!B6 -> INSTITUTO TECNOLÓGICO SUPERIOR DE PEROTE
