Workbook

Sheet CARÁTULA
A7: GOBIERNO DEL ESTADO DE VERACRUZ DE IGNACIO DE LA LLAVE
A8: INSTITUTO TECNOLÓGICO SUPERIOR DE PEROTE
A9: CUENTA PÚBLICA 2021
A10: DEL 1 DE ENERO AL 31 DE DICIEMBRE DE 2021
A11: LEY DE DISCIPLINA FINANCIERA

Sheet 1SIT FINANC
A1: CUENTA PÚBLICA 2021
A2: =CARÁTULA!A8 -> INSTITUTO TECNOLÓGICO SUPERIOR DE PEROTE
A3: Estado de Situación Financiera Detallado - LDF
A4: Al 31 de Diciembre de 2020 y al 31 de Diciembre de 2021
A5: (PESOS)
A6: Concepto (c) | B6: 2021 | C6: 31 de | E6: Concepto (c) | F6: =B6 -> 2021 | G6: 31 de
C7: Diciembre de | G7: diciembre de
C8: =B6-1 -> 2020 | G8: =C8 -> 2020
A9: ACTIVO | E9: PASIVO
A10: Activo Circulante | E10: Pasivo Circulante
A11: a. Efectivo y Equivalentes (a=a1+a2+a3+a4+a5+a6+a7) | B11: =SUM(B12:B18) -> 1656005 | C11: =SUM(C12:C18) -> 2601279 | E11: a. Cuentas por Pagar a Corto Plazo (a=a1+a2+a3+a4+a5+a6+a7+a8+a9) | F11: =SUM(F12:F20) -> 18676618 | G11: =SUM(G12:G20) -> 17356262
A12: a1) Efectivo | B12: 0 | C12: 0 | E12: a1) Servicios Personales por Pagar a Corto Plazo | F12: 4648815 | G12: 4358391
A13: a2) Bancos/Tesorería | B13: 0 | C13: 0 | E13: a2) Proveedores por Pagar a Corto Plazo | F13: 2093113 | G13: 1906276
A14: a3) Bancos/Dependencias y Otros | B14: 1656005 | C14: 2601279 | E14: a3) Contratistas por Obras Públicas por Pagar a Corto Plazo | F14: 0 | G14: 0
A15: a4) Inversiones Temporales (Hasta 3 meses) | B15: 0 | C15: 0 | E15: a4) Participaciones y Aportaciones por Pagar a Corto Plazo | F15: 0 | G15: 0
A16: a5) Fondos con Afectación Específica | B16: 0 | C16: 0 | E16: a5) Transferencias Otorgadas por Pagar a Corto Plazo | F16: 135833 | G16: 0
A17: a6) Depósitos de Fondos de Terceros en Garantía y/o Administración | B17: 0 | C17: 0 | E17: a6) Intereses, Comisiones y Otros Gastos de la Deuda Pública por Pagar a Corto Plazo | F17: 0 | G17: 0
A18: a7) Otros Efectivos y Equivalentes | B18: 0 | C18: 0 | E18: a7) Retenciones y Contribuciones por Pagar a Corto Plazo | F18: 11798857 | G18: 11091595
A19: b. Derechos a Recibir Efectivo o Equivalentes (b=b1+b2+b3+b4+b5+b6+b7) | B19: =SUM(B20:B26) -> 29199146 | C19: =SUM(C20:C26) -> 29986239 | E19: a8) Devoluciones de la Ley de Ingresos por Pagar a Corto Plazo | F19: 0 | G19: 0
A20: b1) Inversiones Financieras de Corto Plazo | B20: 0 | C20: 0 | E20: a9) Otras Cuentas por Pagar a Corto Plazo | F20: 0 | G20: 0
A21: b2) Cuentas por Cobrar a Corto Plazo | B21: 27799162 | C21: 27747255 | E21: b. Documentos por Pagar a Corto Plazo (b=b1+b2+b3) | F21: =SUM(F22:F24) -> 0 | G21: =SUM(G22:G24) -> 0
A22: b3) Deudores Diversos por Cobrar a Corto Plazo | B22: 1397171 | C22: 2236876 | E22: b1) Documentos Comerciales por Pagar a Corto Plazo | F22: 0 | G22: 0
A23: b4) Ingresos por Recuperar a Corto Plazo | B23: 2813 | C23: 2108 | E23: b2) Documentos con Contratistas por Obras Públicas por Pagar a Corto Plazo | F23: 0 | G23: 0
A24: b5) Deudores por Anticipos de la Tesorería a Corto Plazo | B24: 0 | C24: 0 | E24: b3) Otros Documentos por Pagar a Corto Plazo | F24: 0 | G24: 0
A25: b6) Préstamos Otorgados a Corto Plazo | B25: 0 | C25: 0 | E25: c. Porción a Corto Plazo de la Deuda Pública a Largo Plazo (c=c1+c2) | F25: =SUM(F26:F27) -> 0 | G25: =SUM(G26:G27) -> 0
A26: b7) Otros Derechos a Recibir Efectivo o Equivalentes a Corto Plazo | B26: 0 | C26: 0 | E26: c1) Porción a Corto Plazo de la Deuda Pública | F26: 0 | G26: 0
A27: c. Derechos a Recibir Bienes o Servicios (c=c1+c2+c3+c4+c5) | B27: =SUM(B28:B32) -> 0 | C27: =SUM(C28:C32) -> 0 | E27: c2) Porción a Corto Plazo de Arrendamiento Financiero | F27: 0 | G27: 0
A28: c1) Anticipo a Proveedores por Adquisición de Bienes y Prestación de Servicios a Corto Plazo | B28: 0 | C28: 0 | E28: d. Títulos y Valores a Corto Plazo | F28: 0 | G28: 0
A29: c2) Anticipo a Proveedores por Adquisición de Bienes Inmuebles y Muebles a Corto Plazo | B29: 0 | C29: 0 | E29: e. Pasivos Diferidos a Corto Plazo (e=e1+e2+e3) | F29: =SUM(F30:F32) -> 0 | G29: =SUM(G30:G32) -> 0
A30: c3) Anticipo a Proveedores por Adquisición de Bienes Intangibles a Corto Plazo | B30: 0 | C30: 0 | E30: e1) Ingresos Cobrados por Adelantado a Corto Plazo | F30: 0 | G30: 0
A31: c4) Anticipo a Contratistas por Obras Públicas a Corto Plazo | B31: 0 | C31: 0 | E31: e2) Intereses Cobrados por Adelantado a Corto Plazo | F31: 0 | G31: 0
A32: c5) Otros Derechos a Recibir Bienes o Servicios a Corto Plazo | B32: 0 | C32: 0 | E32: e3) Otros Pasivos Diferidos a Corto Plazo | F32: 0 | G32: 0
A33: d. Inventarios (d=d1+d2+d3+d4+d5) | B33: =SUM(B34:B38) -> 0 | C33: =SUM(C34:C38) -> 0 | E33: f. Fondos y Bienes de Terceros en Garantía y/o Administración a Corto Plazo (f=f1+f2+f3+f4+f5+f6) | F33: =SUM(F34:F39) -> 0 | G33: =SUM(G34:G39) -> 0
A34: d1) Inventario de Mercancías para Venta | B34: 0 | C34: 0 | E34: f1) Fondos en Garantía a Corto Plazo | F34: 0 | G34: 0
A35: d2) Inventario de Mercancías Terminadas | B35: 0 | C35: 0 | E35: f2) Fondos en Administración a Corto Plazo | F35: 0 | G35: 0
A36: d3) Inventario de Mercancías en Proceso de Elaboración | B36: 0 | C36: 0 | E36: f3) Fondos Contingentes a Corto Plazo | F36: 0 | G36: 0
A37: d4) Inventario de Materias Primas, Materiales y Suministros para Producción | B37: 0 | C37: 0 | E37: f4) Fondos de Fideicomisos, Mandatos y Contratos Análogos a Corto Plazo | F37: 0 | G37: 0
A38: d5) Bienes en Tránsito | B38: 0 | C38: 0 | E38: f5) Otros Fondos de Terceros en Garantía y/o Administración a Corto Plazo | F38: 0 | G38: 0
A39: e. Almacenes | B39: 0 | C39: 0 | E39: f6) Valores y Bienes en Garantía a Corto Plazo | F39: 0 | G39: 0
A40: f. Estimación por Pérdida o Deterioro de Activos Circulantes (f=f1+f2) | B40: =SUM(B41:B42) -> 0 | C40: =SUM(C41:C42) -> 0 | E40: g. Provisiones a Corto Plazo (g=g1+g2+g3) | F40: =SUM(F41:F43) -> 0 | G40: =SUM(G41:G43) -> 0
...

Sheet 2 DEUDA
A1: ='1SIT FINANC'!A1:G1 -> CUENTA PÚBLICA 2021
A2: ='1SIT FINANC'!A2:G2 -> INSTITUTO TECNOLÓGICO SUPERIOR DE PEROTE
A3: Informe Analítico de la Deuda Pública y Otros Pasivos - LDF
A4: Del 1 de Enero al 31 de Diciembre de 2021
A5: (PESOS)
A6: Denominación de la Deuda Pública y | C6: Saldo | D6: Disposiciones | E6: Amortizaciones | F6: Revaluaciones, | G6: Saldo Final | H6: Pago de | I6: Pago de
A7: Otros Pasivos (c) | C7: al 31 de | D7: del Periodo (e) | E7: del Periodo (f) | F7: Reclasificaciones | G7: del Periodo | H7: Intereses del | I7: Comisiones y
C8: diciembre de | F8: y Otros Ajustes (g) | G8: (h) | H8: Periodo (i) | I8: demás costos
C9: 20XN-1 (d) | G9: h=d+e-f+g | I9: asociados durante
I10: el Periodo (j)
A12: 1. Deuda Pública (1=A+B)
A13: A. Corto Plazo (A=a1+a2+a3) | C13: 0 | D13: 0 | E13: 0 | F13: 0 | G13: 0 | H13: 0 | I13: 0
A14: a1) Instituciones de Crédito | C14: 0 | D14: 0 | E14: 0 | F14: 0 | G14: 0 | H14: 0 | I14: 0
A15: a2) Títulos y Valores | C15: 0 | D15: 0 | E15: 0 | F15: 0 | G15: 0 | H15: 0 | I15: 0
A16: a3) Arrendamientos Financieros | C16: 0 | D16: 0 | E16: 0 | F16: 0 | G16: 0 | H16: 0 | I16: 0
A17: B. Largo Plazo (B=b1+b2+b3) | C17: 0 | D17: 0 | E17: 0 | F17: 0 | G17: 0 | H17: 0 | I17: 0
A18: b1) Instituciones de Crédito | C18: 0 | D18: 0 | E18: 0 | F18: 0 | G18: 0 | H18: 0 | I18: 0
A19: b2) Títulos y Valores | C19: 0 | D19: 0 | E19: 0 | F19: 0 | G19: 0 | H19: 0 | I19: 0
A20: b3) Arrendamientos Financieros | C20: 0 | D20: 0 | E20: 0 | F20: 0 | G20: 0 | H20: 0 | I20: 0
A21: 2. Otros Pasivos | C21: ='1SIT FINANC'!G59 -> 17356262 | D21: 77887627 | E21: 76567271 | F21: 0 | G21: =C21+D21-E21+F21 -> 18676618 | H21: 0 | I21: 0
A23: 3. Total de la Deuda Pública y OtrosPasivos (3=1+2) | C23: =C21 -> 17356262 | D23: =D21 -> 77887627 | E23: =E21 -> 76567271 | F23: =F21 -> 0 | G23: =G21 -> 18676618 | H23: =H21 -> 0 | I23: =I21 -> 0 | K23: =IF(G23='1SIT FINANC'!F59,"","NO COINCIDE VS PASIVO SIT FINANC")
A25: 4. Deuda Contingente 1 (informativo) | C25: 0 | D25: 0 | E25: 0 | F25: 0 | G25: 0 | H25: 0 | I25: 0
A26: A. Deuda Contingente 1 | C26: 0 | D26: 0 | E26: 0 | F26: 0 | G26: 0 | H26: 0 | I26: 0
A27: B. Deuda Contingente 2 | C27: 0 | D27: 0 | E27: 0 | F27: 0 | G27: 0 | H27: 0 | I27: 0
A28: C. Deuda Contingente XX | C28: 0 | D28: 0 | E28: 0 | F28: 0 | G28: 0 | H28: 0 | I28: 0
A30: 5. Valor de Instrumentos Bono Cupón Cero2 (Informativo) | C30: 0 | D30: 0 | E30: 0 | F30: 0 | G30: 0 | H30: 0 | I30: 0
A31: A. Instrumento Bono Cupón Cero 1 | C31: 0 | D31: 0 | E31: 0 | F31: 0 | G31: 0 | H31: 0 | I31: 0
A32: B. Instrumento Bono Cupón Cero 2 | C32: 0 | D32: 0 | E32: 0 | F32: 0 | G32: 0 | H32: 0 | I32: 0
A33: C. Instrumento Bono Cupón Cero XX | C33: 0 | D33: 0 | E33: 0 | F33: 0 | G33: 0 | H33: 0 | I33: 0
A36: Obligaciones a Corto Plazo (k) | C36: Monto | D36: Plazo | E36: Tasa de Interés | F36: Comisiones y | G36: Tasa Efectiva
C37: Contratado (l) | D37: Pactado | E37: (n) | F37: Costos | G37: (p)
D38: (m) | F38: Relacionados (o)
A39: 6. Obligaciones a Corto Plazo
A40: (Informativo) | C40: =SUM(C41:C43) -> 0 | D40: =SUM(D41:D43) -> 0 | E40: =SUM(E41:E43) -> 0 | F40: =SUM(F41:F43) -> 0 | G40: =SUM(G41:G43) -> 0
A41: A. Crédito 1 | C41: =SUM(C42:C44) -> 0 | D41: =SUM(D42:D44) -> 0 | E41: =SUM(E42:E44) -> 0 | F41: =SUM(F42:F44) -> 0 | G41: =SUM(G42:G44) -> 0
A42: B. Crédito 2 | C42: =SUM(C43:C45) -> 0 | D42: =SUM(D43:D45) -> 0 | E42: =SUM(E43:E45) -> 0 | F42: =SUM(F43:F45) -> 0 | G42: =SUM(G43:G45) -> 0
A43: C. Crédito XX | C43: =SUM(C44:C46) -> 0 | D43: =SUM(D44:D46) -> 0 | E43: =SUM(E44:E46) -> 0 | F43: =SUM(F44:F46) -> 0 | G43: =SUM(G44:G46) -> 0

Sheet 3 OBLIG.
A1: ='2 DEUDA'!A1:I1 -> CUENTA PÚBLICA 2021
A2: ='2 DEUDA'!A2:I2 -> INSTITUTO TECNOLÓGICO SUPERIOR DE PEROTE
A3: Informe Analítico de Obligaciones Diferentes de Financiamientos LDF
A4: ='2 DEUDA'!A4:I4 -> Del 1 de Enero al 31 de Diciembre de 2021
A5: (PESOS)
A6: Denominación de las Obligaciones | B6: Fecha del | C6: Fecha de | D6: Fecha de | E6: Monto de la | F6: Plazo | G6: Monto promedio | H6: Monto promedio | I6: Monto pagado de la | J6: Monto pagado | K6: Saldo pendiente
A7: Diferentes de Financiamiento (c) | B7: Contrato (d) | C7: inicio de | D7: vencimiento | E7: inversión | F7: pactado (h) | G7: mensual del pago | H7: mensual del pago | I7: inversión al XX de | J7: de la inversión | K7: por pagar de la
C8: operación del | D8: (f) | E8: pactado (g) | G8: de la | H8: de la | I8: XXXX de 20XN (k) | J8: actualizado al | K8: inversión al XX
C9: proyecto (e) | G9: contraprestación | H9: contraprestación | J9: XX de XXXX de | K9: de XXXX de
G10: (i) | H10: correspondiente al | J10: 20XN (l) | K10: 20XN (m = g l)
H11: pago de inversión
H12: (j)
A14: A. Asociaciones Público Privadas | E14: =SUM(E16:E19) -> 0 | G14: =SUM(G16:G19) -> 0 | H14: =SUM(H16:H19) -> 0 | I14: =SUM(I16:I19) -> 0 | J14: =SUM(J16:J19) -> 0 | K14: =SUM(K16:K19) -> 0
A15: (APP's) (A=a+b+c+d)
A16: a) APP 1 | E16: 0 | G16: 0 | H16: 0 | I16: 0 | J16: 0 | K16: 0
A17: b) APP 2 | E17: 0 | G17: 0 | H17: 0 | I17: 0 | J17: 0 | K17: 0
A18: c) APP 3 | E18: 0 | G18: 0 | H18: 0 | I18: 0 | J18: 0 | K18: 0
A19: d) APP XX | E19: 0 | G19: 0 | H19: 0 | I19: 0 | J19: 0 | K19: 0
A21: B. Otros Instrumentos (B=a+b+c+d) | E21: =SUM(E22:E25) -> 0 | G21: =SUM(G22:G25) -> 0 | H21: =SUM(H22:H25) -> 0 | I21: =SUM(I22:I25) -> 0 | J21: =SUM(J22:J25) -> 0 | K21: =SUM(K22:K25) -> 0
A22: a) Otro Instrumento 1 | E22: 0 | G22: 0 | H22: 0 | I22: 0 | J22: 0 | K22: 0
A23: b) Otro Instrumento 2 | E23: 0 | G23: 0 | H23: 0 | I23: 0 | J23: 0 | K23: 0
A24: c) Otro Instrumento 3 | E24: 0 | G24: 0 | H24: 0 | I24: 0 | J24: 0 | K24: 0
A25: d) Otro Instrumento XX | E25: 0 | G25: 0 | H25: 0 | I25: 0 | J25: 0 | K25: 0
A27: C. Total de Obligaciones Diferentes de | E27: =E21+E14 -> 0 | G27: =G21+G14 -> 0 | H27: =H21+H14 -> 0 | I27: =I21+I14 -> 0 | J27: =J21+J14 -> 0 | K27: =K21+K14 -> 0
A28: Financiamiento (C=A+B)

Sheet 4 BALANCE
A1: ='3 OBLIG.'!A1:K1 -> CUENTA PÚBLICA 2021
A2: ='3 OBLIG.'!A2:K2 -> INSTITUTO TECNOLÓGICO SUPERIOR DE PEROTE
A3: Balance Presupuestario - LDF
A4: ='3 OBLIG.'!A4:K4 -> Del 1 de Enero al 31 de Diciembre de 2021
A5: (PESOS)
A7: Concepto (c) | B7: Estimado/ | C7: Devengado | D7: Recaudado/
B8: Aprobado (d) | D8: Pagado
A10: A. Ingresos Totales (A = A1+A2+A3) | B10: =SUM(B11:B13) -> 26505518 | C10: =SUM(C11:C13) -> 58428007 | D10: =SUM(D11:D13) -> 58177444
A11: A1. Ingresos de Libre Disposición | B11: ='5 INGRESOS'!$B$74 -> 26505518 | C11: ='5 INGRESOS'!$E$74 -> 58428007 | D11: ='5 INGRESOS'!$F$74 -> 58177444
A12: A2. Transferencias Federales Etiquetadas | B12: 0 | C12: 0 | D12: 0
A13: A3. Financiamiento Neto | B13: 0 | C13: 0 | D13: 0
A15: B. Egresos Presupuestarios1 (B = B1+B2) | B15: =SUM(B16:B17) -> 26505518 | C15: =SUM(C16:C17) -> 54613092 | D15: =SUM(D16:D17) -> 52196848
A16: B1. Gasto No Etiquetado (sin incluir Amortización de la Deuda Pública) | B16: ='6b ADMVA'!B14 -> 26505518 | C16: ='6b ADMVA'!E14-C20 -> 54613092 | D16: ='6b ADMVA'!F14-D20 -> 52196848
A17: B2. Gasto Etiquetado (sin incluir Amortización de la Deuda Pública) | B17: 0 | C17: 0 | D17: 0
A19: C. Remanentes del Ejercicio Anterior ( C = C1 + C2 ) | B19: =SUM(B20:B22) -> 0 | C19: =SUM(C20:C22) -> 3814916 | D19: =SUM(D20:D22) -> 3814916
A20: C1. Remanentes de Ingresos de Libre Disposición aplicados en el periodo | B20: 0 | C20: 3814916 | D20: =C20 -> 3814916
A21: C2. Remanentes de Transferencias Federales Etiquetadas aplicados en el | B21: 0 | C21: 0 | D21: 0
A22: periodo
A24: I. Balance Presupuestario (I = A - B + C) | B24: =B10-B15+B19 -> 0 | C24: =C10-C15+C19 -> 7629831 | D24: =D10-D15+D19 -> 9795512
A25: II. Balance Presupuestario sin Financiamiento Neto (II = I - A3) | B25: =B24-B13 -> 0 | C25: =C24-C13 -> 7629831 | D25: =D24-D13 -> 9795512
A27: III. Balance Presupuestario sin Financiamiento Neto y sin Remanentes del Ejercicio | B27: =B25-B19 -> 0 | C27: =C25-C19 -> 3814915 | D27: =D25-D19 -> 5980596
A28: Anterior (III= II - C)
A31: Concepto | B31: Aprobado | C31: Devengado | D31: Pagado
A33: E. Intereses, Comisiones y Gastos de la Deuda (E = E1+E2) | B33: =SUM(B34:B35) -> 0 | C33: =SUM(C34:C35) -> 0 | D33: =SUM(D34:D35) -> 0
A34: E1. Intereses, Comisiones y Gastos de la Deuda con Gasto No Etiquetado | B34: 0 | C34: 0 | D34: 0
A35: E2. Intereses, Comisiones y Gastos de la Deuda con Gasto Etiquetado | B35: 0 | C35: 0 | D35: 0
A37: IV. Balance Primario (IV = III + E) | B37: =B27+B33 -> 0 | C37: =C27+C33 -> 3814915 | D37: =D27+D33 -> 5980596
A40: Concepto | B40: Estimado/ | C40: Devengado | D40: Recaudado/
B41: Aprobado | D41: Pagado
A43: F. Financiamiento (F = F1 + F2) | B43: =SUM(B44:B45) -> 0 | C43: =SUM(C44:C45) -> 0 | D43: =SUM(D44:D45) -> 0
A44: F1. Financiamiento con Fuente de Pago de Ingresos de Libre Disposición | B44: 0 | C44: 0 | D44: 0
A45: F2. Financiamiento con Fuente de Pago de Transferencias Federales | B45: 0 | C45: 0 | D45: 0
A46: Etiquetadas
A47: G. Amortización de la Deuda (G = G1 + G2) | B47: =SUM(B48:B49) -> 0 | C47: =SUM(C48:C49) -> 0 | D47: =SUM(D48:D49) -> 0
A48: G1. Amortización de la Deuda Pública con Gasto No Etiquetado | B48: 0 | C48: 0 | D48: 0
A49: G2. Amortización de la Deuda Pública con Gasto Etiquetado | B49: 0 | C49: 0 | D49: 0
A51: A3. Financiamiento Neto (A3 = F - G ) | B51: =B43-B47 -> 0 | C51: =C43-C47 -> 0 | D51: =D43-D47 -> 0
A54: Concepto | B54: Estimado/ | C54: Devengado | D54: Recaudado/
B55: Aprobado | D55: Pagado
A57: A1. Ingresos de Libre Disposición | B57: =B11 -> 26505518 | C57: =C11 -> 58428007 | D57: =D11 -> 58177444
...

Sheet 5 INGRESOS
A1: ='4 BALANCE'!A1:D1 -> CUENTA PÚBLICA 2021
A2: ='4 BALANCE'!A2:D2 -> INSTITUTO TECNOLÓGICO SUPERIOR DE PEROTE
A3: Estado Analítico de Ingresos Detallado - LDF
A4: ='4 BALANCE'!A4:D4 -> Del 1 de Enero al 31 de Diciembre de 2021
A5: (PESOS)
B6: Ingreso | G6: Diferencia (e)
A7: Concepto | B7: Estimado (d) | C7: Ampliaciones/ | D7: Modificado | E7: Devengado | F7: Recaudado
A8: (c) | C8: (Reducciones)
A10: Ingresos de Libre Disposición
A11: A. Impuestos | B11: 0 | C11: 0 | D11: =C11+B11 -> 0 | E11: 0 | F11: 0 | G11: =F11-B11 -> 0
A12: B. Cuotas y Aportaciones de Seguridad Social | B12: 0 | C12: 0 | D12: =C12+B12 -> 0 | E12: 0 | F12: 0 | G12: =F12-B12 -> 0
A13: C. Contribuciones de Mejoras | B13: 0 | C13: 0 | D13: =C13+B13 -> 0 | E13: 0 | F13: 0 | G13: =F13-B13 -> 0
A14: D. Derechos | B14: 0 | C14: 0 | D14: =C14+B14 -> 0 | E14: 0 | F14: 0 | G14: =F14-B14 -> 0
A15: E. Productos | B15: 0 | C15: 0 | D15: =C15+B15 -> 0 | E15: 0 | F15: 0 | G15: =F15-B15 -> 0
A16: F. Aprovechamientos | B16: 0 | C16: 0 | D16: =C16+B16 -> 0 | E16: 0 | F16: 0 | G16: =F16-B16 -> 0
A17: G. Ingresos por Ventas de Bienes y Prestación de Servicios | B17: 5054293 | C17: 4157859 | D17: 9212152 | E17: 9014718 | F17: 9014718 | G17: =F17-B17 -> 3960425
A18: H. Participaciones | B18: =SUM(B20:B30) -> 0 | C18: =SUM(C20:C30) -> 0 | D18: =SUM(D20:D30) -> 0 | E18: =SUM(E20:E30) -> 0 | F18: =SUM(F20:F30) -> 0 | G18: =SUM(G20:G30) -> 0
A19: (H=h1+h2+h3+h4+h5+h6+h7+h8+h9+h10+h11)
A20: h1) Fondo General de Participaciones | B20: 0 | C20: 0 | D20: =B20+C20 -> 0 | E20: 0 | F20: 0 | G20: 0
A21: h2) Fondo de Fomento Municipal | B21: 0 | C21: 0 | D21: =B21+C21 -> 0 | E21: 0 | F21: 0 | G21: 0
A22: h3) Fondo de Fiscalización y Recaudación | B22: 0 | C22: 0 | D22: =B22+C22 -> 0 | E22: 0 | F22: 0 | G22: 0
A23: h4) Fondo de Compensación | B23: 0 | C23: 0 | D23: =B23+C23 -> 0 | E23: 0 | F23: 0 | G23: 0
A24: h5) Fondo de Extracción de Hidrocarburos | B24: 0 | C24: 0 | D24: =B24+C24 -> 0 | E24: 0 | F24: 0 | G24: 0
A25: h6) Impuesto Especial Sobre Producción y Servicios | B25: 0 | C25: 0 | D25: =B25+C25 -> 0 | E25: 0 | F25: 0 | G25: 0
A26: h7) 0.136% de la Recaudación Federal Participable | B26: 0 | C26: 0 | D26: =B26+C26 -> 0 | E26: 0 | F26: 0 | G26: 0
A27: h8) 3.17% Sobre Extracción de Petróleo | B27: 0 | C27: 0 | D27: =B27+C27 -> 0 | E27: 0 | F27: 0 | G27: 0
A28: h9) Gasolinas y Diésel | B28: 0 | C28: 0 | D28: =B28+C28 -> 0 | E28: 0 | F28: 0 | G28: 0
A29: h10) Fondo del Impuesto Sobre la Renta | B29: 0 | C29: 0 | D29: =B29+C29 -> 0 | E29: 0 | F29: 0 | G29: 0
A30: h11) Fondo de Estabilización de los Ingresos de las Entidades Federativas | B30: 0 | C30: 0 | D30: =B30+C30 -> 0 | E30: 0 | F30: 0 | G30: 0
A31: I. Incentivos Derivados de la Colaboración Fiscal (I=i1+i2+i3+i4+i5) | B31: =SUM(B32:B36) -> 0 | C31: =SUM(C32:C36) -> 0 | D31: =SUM(D32:D36) -> 0 | E31: =SUM(E32:E36) -> 0 | F31: =SUM(F32:F36) -> 0 | G31: =SUM(G32:G36) -> 0
A32: i1) Tenencia o Uso de Vehículos | B32: 0 | C32: 0 | D32: =B32+C32 -> 0 | E32: 0 | F32: 0 | G32: =F32-B32 -> 0
A33: i2) Fondo de Compensación ISAN | B33: 0 | C33: 0 | D33: =B33+C33 -> 0 | E33: 0 | F33: 0 | G33: =F33-B33 -> 0
A34: i3) Impuesto Sobre Automóviles Nuevos | B34: 0 | C34: 0 | D34: =B34+C34 -> 0 | E34: 0 | F34: 0 | G34: =F34-B34 -> 0
A35: i4) Fondo de Compensación de Repecos- Intermedios | B35: 0 | C35: 0 | D35: =B35+C35 -> 0 | E35: 0 | F35: 0 | G35: =F35-B35 -> 0
A36: i5) Otros Incentivos Económicos | B36: 0 | C36: 0 | D36: =B36+C36 -> 0 | E36: 0 | F36: 0 | G36: =F36-B36 -> 0
A37: J. Transferencias y Asignaciones | B37: 21451225 | C37: 27962065 | D37: 49413290 | E37: 49413289 | F37: 49162726 | G37: =F37-B37 -> 27711501
A38: K. Convenios | B38: =B39 -> 0 | C38: =C39 -> 0 | D38: =D39 -> 0 | E38: =E39 -> 0 | F38: =F39 -> 0 | G38: =G39 -> 0
A39: k1) Otros Convenios y Subsidios | B39: 0 | C39: 0 | D39: =B39+C39 -> 0 | E39: 0 | F39: 0 | G39: =F39-B39 -> 0
A40: L. Otros Ingresos de Libre Disposición (L=l1+l2) | B40: =SUM(B41:B42) -> 0 | C40: =SUM(C41:C42) -> 0 | D40: =SUM(D41:D42) -> 0 | E40: =SUM(E41:E42) -> 0 | F40: =SUM(F41:F42) -> 0 | G40: =SUM(G41:G42) -> 0
A41: l1) Participaciones en Ingresos Locales | B41: 0 | C41: 0 | D41: =C41+B41 -> 0 | E41: 0 | F41: 0 | G41: =F41-B41 -> 0
...

Sheet 6a COG
A1: ='5 INGRESOS'!A1:G1 -> CUENTA PÚBLICA 2021
A2: ='5 INGRESOS'!A2:G2 -> INSTITUTO TECNOLÓGICO SUPERIOR DE PEROTE
A3: Estado Analítico del Ejercicio del Presupuesto de Egresos Detallado - LDF
A4: Clasificación por Objeto del Gasto (Capítulo y Concepto)
A5: ='5 INGRESOS'!A4:G4 -> Del 1 de Enero al 31 de Diciembre de 2021
A6: (PESOS)
A7: Concepto (c) | C7: Egresos | H7: Subejercicio
C8: Aprobado | D8: Ampliaciones/ | E8: Modificado | F8: Devengado | G8: Pagado | H8: (e)
C9: (d) | D9: (Reducciones)
A10: I. Gasto No Etiquetado (I=A+B+C+D+E+F+G+H+I) | C10: =C11+C19+C29+C39+C49+C59+C63+C72+C76 -> 26505518 | D10: =D11+D19+D29+D39+D49+D59+D63+D72+D76 -> 32119924 | E10: =E11+E19+E29+E39+E49+E59+E63+E72+E76 -> 58625442 | F10: =F11+F19+F29+F39+F49+F59+F63+F72+F76 -> 58428008 | G10: =G11+G19+G29+G39+G49+G59+G63+G72+G76 -> 56011764 | H10: =H11+H19+H29+H39+H49+H59+H63+H72+H76 -> 197434
A11: A. Servicios Personales (A=a1+a2+a3+a4+a5+a6+a7) | C11: =SUM(C12:C18) -> 14429871 | D11: =SUM(D12:D18) -> 31031940 | E11: =SUM(E12:E18) -> 45461811 | F11: =SUM(F12:F18) -> 45461811 | G11: =SUM(G12:G18) -> 44656421 | H11: =SUM(H12:H18) -> 0
B12: a1) Remuneraciones al Personal de Carácter Permanente | C12: 12061907 | D12: 14883840 | E12: 26945747 | F12: 26945747 | G12: 26945747 | H12: =E12-F12 -> 0
B13: a2) Remuneraciones al Personal de Carácter Transitorio | C13: 0 | D13: 0 | E13: 0 | F13: 0 | G13: 0 | H13: =E13-F13 -> 0
B14: a3) Remuneraciones Adicionales y Especiales | C14: 734793 | D14: 3835878 | E14: 4570671 | F14: 4570671 | G14: 4570671 | H14: =E14-F14 -> 0
B15: a4) Seguridad Social | C15: 1013303 | D15: 5324036 | E15: 6337339 | F15: 6337339 | G15: 5531949 | H15: =E15-F15 -> 0
B16: a5) Otras Prestaciones Sociales y Económicas | C16: 415870 | D16: 2972926 | E16: 3388796 | F16: 3388796 | G16: 3388796 | H16: =E16-F16 -> 0
B17: a6) Previsiones | C17: 0 | D17: 0 | E17: 0 | F17: 0 | G17: 0 | H17: =E17-F17 -> 0
B18: a7) Pago de Estímulos a Servidores Públicos | C18: 203998 | D18: 4015260 | E18: 4219258 | F18: 4219258 | G18: 4219258 | H18: =E18-F18 -> 0
A19: B. Materiales y Suministros (B=b1+b2+b3+b4+b5+b6+b7+b8+b9) | C19: =SUM(C20:C28) -> 6902658 | D19: -2315489 | E19: 4587169 | F19: 4587169 | G19: 4587169 | H19: =SUM(H20:H28) -> 0
B20: b1) Materiales de Administración, Emisión de Documentos y Artículos Oficiales | C20: 4459589 | D20: -3415664 | E20: 1043925 | F20: 1043925 | G20: 1043925 | H20: =E20-F20 -> 0
B21: b2) Alimentos y Utensilios | C21: 56585 | D21: -49187 | E21: 7398 | F21: 7398 | G21: 7398 | H21: =E21-F21 -> 0
B22: b3) Materias Primas y Materiales de Producción y Comercialización | C22: 0 | D22: 0 | E22: 0 | F22: 0 | G22: 0 | H22: =E22-F22 -> 0
B23: b4) Materiales y Artículos de Construcción y de Reparación | C23: 569262 | D23: 863654 | E23: 1432916 | F23: 1432916 | G23: 1432916 | H23: =E23-F23 -> 0
B24: b5) Productos Químicos, Farmacéuticos y de Laboratorio | C24: 319944 | D24: 356561 | E24: 676505 | F24: 676505 | G24: 676505 | H24: =E24-F24 -> 0
B25: b6) Combustibles, Lubricantes y Aditivos | C25: 828568 | D25: -614228 | E25: 214340 | F25: 214340 | G25: 214340 | H25: =E25-F25 -> 0
B26: b7) Vestuario, Blancos, Prendas de Protección y Artículos Deportivos | C26: 131906 | D26: 329494 | E26: 461400 | F26: 461400 | G26: 461400 | H26: =E26-F26 -> 0
B27: b8) Materiales y Suministros Para Seguridad | C27: 536804 | D27: 0 | E27: 0 | F27: 0 | G27: 0 | H27: =E27-F27 -> 0
B28: b9) Herramientas, Refacciones y Accesorios Menores | C28: 0 | D28: 213881 | E28: 750685 | F28: 750685 | G28: 750685 | H28: =E28-F28 -> 0
A29: C. Servicios Generales (C=c1+c2+c3+c4+c5+c6+c7+c8+c9) | C29: =SUM(C30:C38) -> 5172989 | D29: 2793751 | E29: 7966740 | F29: 7769306 | G29: 6294286 | H29: =SUM(H30:H38) -> 197434
B30: c1) Servicios Básicos | C30: 200000 | D30: 109581 | E30: 309581 | F30: 309581 | G30: 296085 | H30: =E30-F30 -> 0
B31: c2) Servicios de Arrendamiento | C31: 0 | D31: 224604 | E31: 224604 | F31: 224604 | G31: 224604 | H31: =E31-F31 -> 0
B32: c3) Servicios Profesionales, Científicos, Técnicos y Otros Servicios | C32: 0 | D32: 2023723 | E32: 2023723 | F32: 2023723 | G32: 1914067 | H32: =E32-F32 -> 0
B33: c4) Servicios Financieros, Bancarios y Comerciales | C33: 3000 | D33: 635262 | E33: 638262 | F33: 638262 | G33: 550351 | H33: =E33-F33 -> 0
B34: c5) Servicios de Instalación, Reparación, Mantenimiento y Conservación | C34: 0 | D34: 1864721 | E34: 1864721 | F34: 1864721 | G34: 1864721 | H34: =E34-F34 -> 0
B35: c6) Servicios de Comunicación Social y Publicidad | C35: 469039 | D35: 631 | E35: 469670 | F35: 469670 | G35: 469670 | H35: =E35-F35 -> 0
B36: c7) Servicios de Traslado y Viáticos | C36: 2267615 | D36: -1878961 | E36: 388654 | F36: 191220 | G36: 186453 | H36: =E36-F36 -> 197434
B37: c8) Servicios Oficiales | C37: 100000 | D37: 17323 | E37: 117323 | F37: 117323 | G37: 117323 | H37: =E37-F37 -> 0
B38: c9) Otros Servicios Generales | C38: 2133335 | D38: -203133 | E38: 1930202 | F38: 1930202 | G38: 671012 | H38: =E38-F38 -> 0
A39: D. Transferencias, Asignaciones, Subsidios y Otras Ayudas (D=d1+d2+d3+d4+d5+d6+d7+d8+d9) | C39: =SUM(C40:C48) -> 0 | D39: 443567 | E39: 443567 | F39: 443567 | G39: 307733 | H39: =SUM(H40:H48) -> 0
B40: d1) Transferencias Internas y Asignaciones al Sector Público | C40: 0 | D40: 0 | E40: 0 | F40: 0 | G40: 0 | H40: =E40-F40 -> 0
...

Sheet 6b ADMVA
A1: ='6a COG'!A1:H1 -> CUENTA PÚBLICA 2021
A2: ='6a COG'!A2:H2 -> INSTITUTO TECNOLÓGICO SUPERIOR DE PEROTE
A3: Estado Analítico del Ejercicio del Presupuesto de Egresos Detallado - LDF
A4: Clasificación Administrativa
A5: ='6a COG'!A5:H5 -> Del 1 de Enero al 31 de Diciembre de 2021
A6: (PESOS)
A7: Concepto (c) | B7: Egresos | G7: Subejercicio (e)
B8: Aprobado (d) | C8: Ampliaciones/ | D8: Modificado | E8: Devengado | F8: Pagado
C9: (Reducciones)
A10: I. Gasto No Etiquetado | B10: =B11 -> 26505518 | C10: =C11 -> 32119924 | D10: =D11 -> 58625442 | E10: =E11 -> 58428008 | F10: =F11 -> 56011764 | G10: =G11 -> 197434
A11: A. Dependencia o Unidad Administrativa 1 | B11: 26505518 | C11: 32119924 | D11: 58625442 | E11: 58428008 | F11: 56011764 | G11: =D11-E11 -> 197434
A12: II. Gasto Etiquetado | B12: =B13 -> 0 | C12: =C13 -> 0 | D12: =D13 -> 0 | E12: =E13 -> 0 | F12: =F13 -> 0 | G12: =G13 -> 0
A13: A. Dependencia o Unidad Administrativa 1 | B13: 0 | C13: 0 | D13: =B13+C13 -> 0 | E13: 0 | F13: 0 | G13: =D13-E13 -> 0
A14: III. Total de Egresos (III = I + II) | B14: =B12+B10 -> 26505518 | C14: =C12+C10 -> 32119924 | D14: =D12+D10 -> 58625442 | E14: =E12+E10 -> 58428008 | F14: =F12+F10 -> 56011764 | G14: =G12+G10 -> 197434
B17: =IF(B14='5 INGRESOS'!B74,"","ERROR VS ANALITICO INGRESOS") | C17: =IF(C14='5 INGRESOS'!C74,"","ERROR VS ANALITICO INGRESOS") | D17: =IF(D14='5 INGRESOS'!D74,"","ERROR VS ANALITICO INGRESOS") | E17: =IF(E14='6a COG'!F160,"","ERRORCOG") | F17: =IF(F14='6a COG'!G160,"","ERRORCOG") | G17: =IF(G14='6a COG'!H160,"","ERRORCOG")

Sheet 6c FUNCION
A1: ='6b ADMVA'!A1:G1 -> CUENTA PÚBLICA 2021
A2: ='6b ADMVA'!A2:G2 -> INSTITUTO TECNOLÓGICO SUPERIOR DE PEROTE
A3: Estado Analítico del Ejercicio del Presupuesto de Egresos Detallado - LDF
A4: Clasificación Funcional (Finalidad y Función)
A5: ='6b ADMVA'!A5:G5 -> Del 1 de Enero al 31 de Diciembre de 2021
A6: (PESOS)
A7: Concepto (c) | C7: Egresos | H7: Subejercicio (e)
C8: Aprobado (d) | D8: Ampliaciones/ | E8: Modificado | F8: Devengado | G8: Pagado
D9: (Reducciones)
A11: I. Gasto No Etiquetado (I=A+B+C+D) | C11: =C12+C22+C31+C42 -> 0 | D11: =D12+D22+D31+D42 -> 0 | E11: =E12+E22+E31+E42 -> 0 | F11: =F12+F22+F31+F42 -> 0 | G11: =G12+G22+G31+G42 -> 0 | H11: =H12+H22+H31+H42 -> 0
A12: A. Gobierno (A=a1+a2+a3+a4+a5+a6+a7+a8) | C12: =SUM(C13:C20) -> 0 | D12: =SUM(D13:D20) -> 0 | E12: =SUM(E13:E20) -> 0 | F12: =SUM(F13:F20) -> 0 | G12: =SUM(G13:G20) -> 0 | H12: =SUM(H13:H20) -> 0
B13: a1) Legislación | C13: 0 | D13: 0 | E13: =D13+C13 -> 0 | F13: 0 | G13: 0 | H13: =E13-F13 -> 0
B14: a2) Justicia | C14: 0 | D14: 0 | E14: =D14+C14 -> 0 | F14: 0 | G14: 0 | H14: =E14-F14 -> 0
B15: a3) Coordinación de la Política de Gobierno | C15: 0 | D15: 0 | E15: =D15+C15 -> 0 | F15: 0 | G15: 0 | H15: =E15-F15 -> 0
B16: a4) Relaciones Exteriores | C16: 0 | D16: 0 | E16: =D16+C16 -> 0 | F16: 0 | G16: 0 | H16: =E16-F16 -> 0
B17: a5) Asuntos Financieros y Hacendarios | C17: 0 | D17: 0 | E17: =D17+C17 -> 0 | F17: 0 | G17: 0 | H17: =E17-F17 -> 0
B18: a6) Seguridad Nacional | C18: 0 | D18: 0 | E18: =D18+C18 -> 0 | F18: 0 | G18: 0 | H18: =E18-F18 -> 0
B19: a7) Asuntos de Orden Público y de Seguridad Interior | C19: 0 | D19: 0 | E19: =D19+C19 -> 0 | F19: 0 | G19: 0 | H19: =E19-F19 -> 0
B20: a8) Otros Servicios Generales | C20: 0 | D20: 0 | E20: =D20+C20 -> 0 | F20: 0 | G20: 0 | H20: =E20-F20 -> 0
A22: B. Desarrollo Social (B=b1+b2+b3+b4+b5+b6+b7) | C22: =SUM(C23:C29) -> 0 | D22: =SUM(D23:D29) -> 0 | E22: =SUM(E23:E29) -> 0 | F22: =SUM(F23:F29) -> 0 | G22: =SUM(G23:G29) -> 0 | H22: =SUM(H23:H29) -> 0
B23: b1) Protección Ambiental | C23: 0 | D23: 0 | E23: =D23+C23 -> 0 | F23: 0 | G23: 0 | H23: =E23-F23 -> 0
B24: b2) Vivienda y Servicios a la Comunidad | C24: 0 | D24: 0 | E24: =D24+C24 -> 0 | F24: 0 | G24: 0 | H24: =E24-F24 -> 0
B25: b3) Salud | C25: 0 | D25: 0 | E25: =D25+C25 -> 0 | F25: 0 | G25: 0 | H25: =E25-F25 -> 0
B26: b4) Recreación, Cultura y Otras Manifestaciones Sociales | C26: 0 | D26: 0 | E26: =C26+D26 -> 0 | F26: 0 | G26: 0 | H26: =E26-F26 -> 0
B27: b5) Educación | C27: 0 | D27: 0 | E27: =D27+C27 -> 0 | F27: 0 | G27: 0 | H27: =E27-F27 -> 0
B28: b6) Protección Social | C28: 0 | D28: 0 | E28: =D28+C28 -> 0 | F28: 0 | G28: 0 | H28: =E28-F28 -> 0
B29: b7) Otros Asuntos Sociales | C29: 0 | D29: 0 | E29: =D29+C29 -> 0 | F29: 0 | G29: 0 | H29: =E29-F29 -> 0
A31: C. Desarrollo Económico (C=c1+c2+c3+c4+c5+c6+c7+c8+c9) | C31: =SUM(C32:C40) -> 0 | D31: =SUM(D32:D40) -> 0 | E31: =SUM(E32:E40) -> 0 | F31: =SUM(F32:F40) -> 0 | G31: =SUM(G32:G40) -> 0 | H31: =SUM(H32:H40) -> 0
B32: c1) Asuntos Económicos, Comerciales y Laborales en General | C32: 0 | D32: 0 | E32: =C32+D32 -> 0 | F32: 0 | G32: 0 | H32: =E32-F32 -> 0
B33: c2) Agropecuaria, Silvicultura, Pesca y Caza | C33: 0 | D33: 0 | E33: =C33+D33 -> 0 | F33: 0 | G33: 0 | H33: =E33-F33 -> 0
B34: c3) Combustibles y Energía | C34: 0 | D34: 0 | E34: =C34+D34 -> 0 | F34: 0 | G34: 0 | H34: =E34-F34 -> 0
B35: c4) Minería, Manufacturas y Construcción | C35: 0 | D35: 0 | E35: =C35+D35 -> 0 | F35: 0 | G35: 0 | H35: =E35-F35 -> 0
B36: c5) Transporte | C36: 0 | D36: 0 | E36: =C36+D36 -> 0 | F36: 0 | G36: 0 | H36: =E36-F36 -> 0
B37: c6) Comunicaciones | C37: 0 | D37: 0 | E37: =C37+D37 -> 0 | F37: 0 | G37: 0 | H37: =E37-F37 -> 0
B38: c7) Turismo | C38: 0 | D38: 0 | E38: =C38+D38 -> 0 | F38: 0 | G38: 0 | H38: =E38-F38 -> 0
B39: c8) Ciencia, Tecnología e Innovación | C39: 0 | D39: 0 | E39: =C39+D39 -> 0 | F39: 0 | G39: 0 | H39: =E39-F39 -> 0
B40: c9) Otras Industrias y Otros Asuntos Económicos | C40: 0 | D40: 0 | E40: =C40+D40 -> 0 | F40: 0 | G40: 0 | H40: =E40-F40 -> 0
A42: D. Otras No Clasificadas en Funciones Anteriores (D=d1+d2+d3+d4) | C42: =SUM(C43:C46) -> 0 | D42: =SUM(D43:D46) -> 0 | E42: =SUM(E43:E46) -> 0 | F42: =SUM(F43:F46) -> 0 | G42: =SUM(G43:G46) -> 0 | H42: =SUM(H43:H46) -> 0
B43: d1) Transacciones de la Deuda Publica / Costo Financiero de la Deuda | C43: 0 | D43: 0 | E43: =D43+C43 -> 0 | F43: 0 | G43: 0 | H43: =E43-F43 -> 0
B44: d2) Transferencias, Participaciones y Aportaciones entre Diferentes Niveles y Órdenes de Gobierno | C44: 0 | D44: 0 | E44: =C44+D44 -> 0 | F44: 0 | G44: 0 | H44: =E44-F44 -> 0
...

Sheet 6d SERV PERS.
A1: ='6c FUNCION'!A1:H1 -> CUENTA PÚBLICA 2021
A2: ='6c FUNCION'!A2:H2 -> INSTITUTO TECNOLÓGICO SUPERIOR DE PEROTE
A3: Estado Analítico del Ejercicio del Presupuesto de Egresos Detallado - LDF
A4: Clasificación de Servicios Personales por Categoría
A5: ='6c FUNCION'!A5:H5 -> Del 1 de Enero al 31 de Diciembre de 2021
A6: (PESOS)
A7: Concepto (c) | B7: Egresos | G7: Subejercicio (e)
B8: Aprobado (d) | C8: Ampliaciones/ | D8: Modificado | E8: Devengado | F8: Pagado
C9: (Reducciones)
A10: I. Gasto No Etiquetado (I=A+B+C+D+E+F) | B10: =B11+B12+B13+B16+B17+B20 -> 14429871 | C10: =C11+C12+C13+C16+C17+C20 -> 31031940 | D10: =D11+D12+D13+D16+D17+D20 -> 45461811 | E10: =E11+E12+E13+E16+E17+E20 -> 45461811 | F10: =F11+F12+F13+F16+F17+F20 -> 44656421 | G10: =G11+G12+G13+G16+G17+G20 -> 0
A11: A. Personal Administrativo y de Servicio Público | B11: ='6a COG'!C11 -> 14429871 | C11: ='6a COG'!D11 -> 31031940 | D11: ='6a COG'!E11 -> 45461811 | E11: ='6a COG'!F11 -> 45461811 | F11: ='6a COG'!G11 -> 44656421 | G11: =D11-E11 -> 0
A12: B. Magisterio | B12: 0 | C12: 0 | D12: =C12+B12 -> 0 | E12: 0 | F12: 0 | G12: =D12-E12 -> 0
A13: C. Servicios de Salud (C=c1+c2) | B13: =B14+B15 -> 0 | C13: =C14+C15 -> 0 | D13: =D14+D15 -> 0 | E13: =E14+E15 -> 0 | F13: =F14+F15 -> 0 | G13: =G14+G15 -> 0
A14: c1) Personal Administrativo | B14: 0 | C14: 0 | D14: =C14+B14 -> 0 | E14: 0 | F14: 0 | G14: =D14-E14 -> 0
A15: c2) Personal Médico, Paramédico y afín | B15: 0 | C15: 0 | D15: =C15+B15 -> 0 | E15: 0 | F15: 0 | G15: =D15-E15 -> 0
A16: D. Seguridad Pública | B16: 0 | C16: 0 | D16: =B16+C16 -> 0 | E16: 0 | F16: 0 | G16: =D16-E16 -> 0
A17: E. Gastos asociados a la implementación de nuevas leyes federales o reformas a las mismas (E = e1 + e2) | B17: =B18+B19 -> 0 | C17: =C18+C19 -> 0 | D17: =D18+D19 -> 0 | E17: =E18+E19 -> 0 | F17: =F18+F19 -> 0 | G17: =G18+G19 -> 0
A18: e1) Nombre del Programa o Ley 1 | B18: 0 | C18: 0 | D18: =C18+B18 -> 0 | E18: 0 | F18: 0 | G18: =D18-E18 -> 0
A19: e2) Nombre del Programa o Ley 2 | B19: 0 | C19: 0 | D19: =C19+B19 -> 0 | E19: 0 | F19: 0 | G19: =D19-E19 -> 0
A20: F. Sentencias laborales definitivas | B20: 0 | C20: 0 | D20: =C20+B20 -> 0 | E20: 0 | F20: 0 | G20: =D20-E20 -> 0
A22: II. Gasto Etiquetado (II=A+B+C+D+E+F) | B22: =B23+B24+B25+B28+B29+B32 -> 0 | C22: =C23+C24+C25+C28+C29+C32 -> 0 | D22: =D23+D24+D25+D28+D29+D32 -> 0 | E22: =E23+E24+E25+E28+E29+E32 -> 0 | F22: =F23+F24+F25+F28+F29+F32 -> 0 | G22: =G23+G24+G25+G28+G29+G32 -> 0
A23: A. Personal Administrativo y de Servicio Público | B23: 0 | C23: 0 | D23: =C23+B23 -> 0 | E23: 0 | F23: 0 | G23: =D23-E23 -> 0
A24: B. Magisterio | B24: 0 | C24: 0 | D24: =C24+B24 -> 0 | E24: 0 | F24: 0 | G24: =D24-E24 -> 0
A25: C. Servicios de Salud (C=c1+c2) | B25: =B26+B27 -> 0 | C25: =C26+C27 -> 0 | D25: =D26+D27 -> 0 | E25: =E26+E27 -> 0 | F25: =F26+F27 -> 0 | G25: =G26+G27 -> 0
A26: c1) Personal Administrativo | B26: 0 | C26: 0 | D26: =C26+B26 -> 0 | E26: 0 | F26: 0 | G26: =D26-E26 -> 0
A27: c2) Personal Médico, Paramédico y afín | B27: 0 | C27: 0 | D27: =C27+B27 -> 0 | E27: 0 | F27: 0 | G27: =D27-E27 -> 0
A28: D. Seguridad Pública | B28: 0 | C28: 0 | D28: =B28+C28 -> 0 | E28: 0 | F28: 0 | G28: =D28-E28 -> 0
A29: E. Gastos asociados a la implementación de nuevas leyes federales o reformas a las mismas (E = e1 + e2) | B29: =B30+B31 -> 0 | C29: =C30+C31 -> 0 | D29: =D30+D31 -> 0 | E29: =E30+E31 -> 0 | F29: =F30+F31 -> 0 | G29: =G30+G31 -> 0
A30: e1) Nombre del Programa o Ley 1 | B30: 0 | C30: 0 | D30: =C30+B30 -> 0 | E30: 0 | F30: 0 | G30: =D30-E30 -> 0
A31: e2) Nombre del Programa o Ley 2 | B31: 0 | C31: 0 | D31: =C31+B31 -> 0 | E31: 0 | F31: 0 | G31: =D31-E31 -> 0
A32: F. Sentencias laborales definitivas | B32: 0 | C32: 0 | D32: =C32+B32 -> 0 | E32: 0 | F32: 0 | G32: =D32-E32 -> 0
A33: III. Total del Gasto en Servicios Personales | B33: =B10+B22 -> 14429871 | C33: =C10+C22 -> 31031940 | D33: =D10+D22 -> 45461811 | E33: =E10+E22 -> 45461811 | F33: =F10+F22 -> 44656421 | G33: =G10+G22 -> 0
A34: (III = I + II)
B37: =IF(B33='6a COG'!C11+'6a COG'!C86,"","ERROR VS 6a COG") | C37: =IF(C33='6a COG'!D11+'6a COG'!D86,"","ERROR VS 6a COG") | D37: =IF(D33='6a COG'!E11+'6a COG'!E86,"","ERROR VS 6a COG") | E37: =IF(E33='6a COG'!F11+'6a COG'!F86,"","ERROR VS 6a COG") | F37: =IF(F33='6a COG'!G11+'6a COG'!G86,"","ERROR VS 6a COG") | G37: =IF(G33='6a COG'!H11+'6a COG'!H86,"","ERROR VS 6a COG")

Sheet GuíaCumplimiento
A1: ='6d SERV PERS.'!A1:G1 -> CUENTA PÚBLICA 2021
A2: ='6d SERV PERS.'!A2:G2 -> INSTITUTO TECNOLÓGICO SUPERIOR DE PEROTE
A3: Guía de Cumplimiento de la Ley de Disciplina Financiera de las Entidades Federativas y Municipios
A4: ='6d SERV PERS.'!A5:G5 -> Del 1 de Enero al 31 de Diciembre de 2021
A6: Indicadores de Observancia (c) | D6: Implementación | H6: Resultado | J6: Fundamento (h) | K6: Comentarios (i)
D7: SI | F7: NO
E8: Mecanismo de | G8: Fecha estimada de | H8: Monto o valor (f) | I8: Unidad (pesos/
E9: Verificación (d) | G9: cumplimiento (e) | I9: porcentaje) (g)
A10: INDICADORES PRESUPUESTARIOS
A11: A. INDICADORES CUANTITATIVOS
A12: 1 | B12: Balance Presupuestario Sostenible (j)
B13: a. | C13: Propuesto | E13: Iniciativa de Ley de Ingresos | G13: N.A. | H13: N.A. | I13: pesos | J13: Art. 6 y 19 de la LDF
E14: y Proyecto de Presupuesto
E15: de Egresos
B16: b. | C16: Aprobado | E16: Ley de Ingresos y | G16: N.A. | H16: N.A. | I16: pesos | J16: Art. 6 y 19 de la LDF
E17: Presupuesto de Egresos
B18: c. | C18: Ejercido | E18: Cuenta Pública / Formato 4 | G18: N.A. | H18: N.A. | I18: pesos | J18: Art. 6 y 19 de la LDF
E19: LDF
A20: 2 | B20: Balance Presupuestario de Recursos Disponibles Sostenible (k)
B21: a. | C21: Propuesto | E21: Iniciativa de Ley de Ingresos | G21: N.A. | H21: N.A. | I21: pesos | J21: Art. 6 y 19 de la LDF
E22: y Proyecto de Presupuesto
E23: de Egresos
B24: b. | C24: Aprobado | E24: Ley de Ingresos y | G24: N.A. | H24: N.A. | I24: pesos | J24: Art. 6 y 19 de la LDF
E25: Presupuesto de Egresos
B26: c. | C26: Ejercido | E26: Cuenta Pública / Formato 4 | G26: N.A. | H26: N.A. | I26: pesos | J26: Art. 6 y 19 de la LDF
E27: LDF
A28: 3 | B28: Financiamiento Neto dentro del Techo de Financiamiento Neto (l)
B29: a. | C29: Propuesto | E29: Iniciativa de Ley de Ingresos | G29: N.A. | H29: N.A. | I29: pesos | J29: Art. 6, 19 y 46 de la LDF
B30: b. | C30: Aprobado | E30: Ley de Ingresos | G30: N.A. | H30: N.A. | I30: pesos | J30: Art. 6, 19 y 46 de la LDF
B31: c. | C31: Ejercido | E31: Cuenta Pública / Formato 4 | G31: N.A. | H31: N.A. | I31: pesos | J31: Art. 6, 19 y 46 de la LDF
E32: LDF
A33: 4 | B33: Recursos destinados a la atención de desastres naturales
B34: a. | C34: Asignación al fideicomiso para desastres naturales (m)
C35: a.1 Aprobado | E35: Reporte Trim. Formato 6 a) | G35: N.A. | H35: N.A. | I35: pesos | J35: Art. 9 de la LDF
C36: a.2 Pagado | E36: Cuenta Pública / Formato 6 | G36: N.A. | H36: N.A. | I36: pesos | J36: Art. 9 de la LDF
E37: a)
B38: b. | C38: Aportación promedio realizada por la Entidad Federativa durante los 5 | E38: Autorizaciones de recursos | G38: N.A. | H38: N.A. | I38: pesos | J38: Art. 9 de la LDF
C39: ejercicios previos, para infraestructura dañada por desastres naturales (n) | E39: aprobados por el FONDEN
B40: c. | C40: Saldo del fideicomiso para desastres naturales (o) | E40: Cuenta Pública / Auxiliar de | G40: N.A. | H40: N.A. | I40: pesos | J40: Art. 9 de la LDF
E41: Cuentas
...
